BEGIN:VCALENDAR
VERSION:2.0
PRODID:-//Winona County Historical Society - ECPv6.15.20//NONSGML v1.0//EN
CALSCALE:GREGORIAN
METHOD:PUBLISH
X-WR-CALNAME:Winona County Historical Society
X-ORIGINAL-URL:https://winonahistory.org
X-WR-CALDESC:Events for Winona County Historical Society
REFRESH-INTERVAL;VALUE=DURATION:PT1H
X-Robots-Tag:noindex
X-PUBLISHED-TTL:PT1H
BEGIN:VTIMEZONE
TZID:America/Chicago
BEGIN:DAYLIGHT
TZOFFSETFROM:-0600
TZOFFSETTO:-0500
TZNAME:CDT
DTSTART:20250309T080000
END:DAYLIGHT
BEGIN:STANDARD
TZOFFSETFROM:-0500
TZOFFSETTO:-0600
TZNAME:CST
DTSTART:20251102T070000
END:STANDARD
BEGIN:DAYLIGHT
TZOFFSETFROM:-0600
TZOFFSETTO:-0500
TZNAME:CDT
DTSTART:20260308T080000
END:DAYLIGHT
BEGIN:STANDARD
TZOFFSETFROM:-0500
TZOFFSETTO:-0600
TZNAME:CST
DTSTART:20261101T070000
END:STANDARD
BEGIN:DAYLIGHT
TZOFFSETFROM:-0600
TZOFFSETTO:-0500
TZNAME:CDT
DTSTART:20270314T080000
END:DAYLIGHT
BEGIN:STANDARD
TZOFFSETFROM:-0500
TZOFFSETTO:-0600
TZNAME:CST
DTSTART:20271107T070000
END:STANDARD
END:VTIMEZONE
BEGIN:VEVENT
DTSTART;TZID=America/Chicago:20260211T150000
DTEND;TZID=America/Chicago:20260211T180000
DTSTAMP:20260425T150051
CREATED:20241218T195953Z
LAST-MODIFIED:20260112T161308Z
UID:10001419-1770822000-1770832800@winonahistory.org
SUMMARY:Vintage Valentines
DESCRIPTION:For this Museum Makers Class\, stop in the History Center between 3 – 6 p.m. to create up to three vintage valentines! All supplies are included and class leaders will provide ideas\, inspiration\, and some history of valentines. \nValentine cards evolved from handwritten notes in the 15th century to ornate\, mass-produced creations in the Victorian era\, fueled by postal reforms and printing advances. Esther A. Howland become the “Mother of the American Valentine” for her 1840s commercial success in the U.S. with elaborate\, laced designs. \nThis drop-in style class is $5 for members and $8 for the public. You can pay upon arrival. Groups are welcome\, please give us a heads-up by calling 507-454- 2723 ext. 0 or 3. Open for all ages\, but best for those 6 and older.  Adults must accompany children. \n 
URL:https://winonahistory.org/event/museum-makers-class-vintage-valentines/2026-02-11/
LOCATION:Winona County History Center\, 160 Johnson Street\, Winona\, MN\, 55987
CATEGORIES:Education Opportunities,Programs
ATTACH;FMTTYPE=image/jpeg:https://winonahistory.org/wp-content/uploads/2024/12/valentines1.jpg
END:VEVENT
END:VCALENDAR