BEGIN:VCALENDAR
VERSION:2.0
PRODID:-//Winona County Historical Society - ECPv6.15.20//NONSGML v1.0//EN
CALSCALE:GREGORIAN
METHOD:PUBLISH
X-WR-CALNAME:Winona County Historical Society
X-ORIGINAL-URL:https://winonahistory.org
X-WR-CALDESC:Events for Winona County Historical Society
REFRESH-INTERVAL;VALUE=DURATION:PT1H
X-Robots-Tag:noindex
X-PUBLISHED-TTL:PT1H
BEGIN:VTIMEZONE
TZID:America/Chicago
BEGIN:DAYLIGHT
TZOFFSETFROM:-0600
TZOFFSETTO:-0500
TZNAME:CDT
DTSTART:20250309T080000
END:DAYLIGHT
BEGIN:STANDARD
TZOFFSETFROM:-0500
TZOFFSETTO:-0600
TZNAME:CST
DTSTART:20251102T070000
END:STANDARD
BEGIN:DAYLIGHT
TZOFFSETFROM:-0600
TZOFFSETTO:-0500
TZNAME:CDT
DTSTART:20260308T080000
END:DAYLIGHT
BEGIN:STANDARD
TZOFFSETFROM:-0500
TZOFFSETTO:-0600
TZNAME:CST
DTSTART:20261101T070000
END:STANDARD
BEGIN:DAYLIGHT
TZOFFSETFROM:-0600
TZOFFSETTO:-0500
TZNAME:CDT
DTSTART:20270314T080000
END:DAYLIGHT
BEGIN:STANDARD
TZOFFSETFROM:-0500
TZOFFSETTO:-0600
TZNAME:CST
DTSTART:20271107T070000
END:STANDARD
END:VTIMEZONE
BEGIN:VEVENT
DTSTART;TZID=America/Chicago:20260401T130000
DTEND;TZID=America/Chicago:20260401T153000
DTSTAMP:20260425T163017
CREATED:20240128T193257Z
LAST-MODIFIED:20260331T205907Z
UID:10001424-1775048400-1775057400@winonahistory.org
SUMMARY:Museum Makers Class: Pisanki Egg Decorating
DESCRIPTION:Registration Required: Call 507-454-2723 ext. 0 or stop in at the History Center. Class limit 12 people. \nCost: $10 for WCHS members and $15 for non-members. No refunds unless class is cancelled by WCHS. \nThe seasonal favorite is back — Pisanki Egg Decorating! A WCHS class leader will help you to create your own colorful egg masterpiece. All the supplies are provided\, and you can take your decorated egg home. Best for 12 and older\, any minors must be accompanied by an adult. \nPisanki (Polish) or Pysanky (Ukrainian) are traditional Slavic decorated eggs\, created using a wax-resist method (batik) to draw designs or\nsymbols with beeswax before dipping in dyes. The wax is then melted off to reveal all the colors and full design. \n  \nThe Winona County History Center is open daily 10 a.m. – 4 p.m. at 160 Johnson St. in downtown Winona. Not a member? It is always a great time to join! Call 507.454.2723 or visit winonahistory.org to find more!
URL:https://winonahistory.org/event/pisanki-egg-decorating/
LOCATION:Winona County History Center\, 160 Johnson Street\, Winona\, MN\, 55987
CATEGORIES:Education Opportunities,Programs
ATTACH;FMTTYPE=image/jpeg:https://winonahistory.org/wp-content/uploads/2024/01/pizanki.jpg
END:VEVENT
END:VCALENDAR