BEGIN:VCALENDAR
VERSION:2.0
PRODID:-//Winona County Historical Society - ECPv6.15.20//NONSGML v1.0//EN
CALSCALE:GREGORIAN
METHOD:PUBLISH
X-ORIGINAL-URL:https://winonahistory.org
X-WR-CALDESC:Events for Winona County Historical Society
REFRESH-INTERVAL;VALUE=DURATION:PT1H
X-Robots-Tag:noindex
X-PUBLISHED-TTL:PT1H
BEGIN:VTIMEZONE
TZID:America/Chicago
BEGIN:DAYLIGHT
TZOFFSETFROM:-0600
TZOFFSETTO:-0500
TZNAME:CDT
DTSTART:20250309T080000
END:DAYLIGHT
BEGIN:STANDARD
TZOFFSETFROM:-0500
TZOFFSETTO:-0600
TZNAME:CST
DTSTART:20251102T070000
END:STANDARD
BEGIN:DAYLIGHT
TZOFFSETFROM:-0600
TZOFFSETTO:-0500
TZNAME:CDT
DTSTART:20260308T080000
END:DAYLIGHT
BEGIN:STANDARD
TZOFFSETFROM:-0500
TZOFFSETTO:-0600
TZNAME:CST
DTSTART:20261101T070000
END:STANDARD
BEGIN:DAYLIGHT
TZOFFSETFROM:-0600
TZOFFSETTO:-0500
TZNAME:CDT
DTSTART:20270314T080000
END:DAYLIGHT
BEGIN:STANDARD
TZOFFSETFROM:-0500
TZOFFSETTO:-0600
TZNAME:CST
DTSTART:20271107T070000
END:STANDARD
END:VTIMEZONE
BEGIN:VEVENT
DTSTART;TZID=America/Chicago:20260528T160000
DTEND;TZID=America/Chicago:20260528T173000
DTSTAMP:20260423T224605
CREATED:20260406T144621Z
LAST-MODIFIED:20260406T144913Z
UID:10001428-1779984000-1779989400@winonahistory.org
SUMMARY:History on the River: Pushing the River
DESCRIPTION:Frank Bures is the author of Pushing the River: An Epic Battle\, a Lost History\, a Near Death\, and Other True Canoeing Stories\, published by Minnesota Historical Society. In his program aboard the Cal Fremling\, Bures will tell some of the exciting and adventurous tales from his new book. He grew up in Winona and is a former reporter for the Winona Daily News. Copies of Pushing the River will be available to purchase on the cruise. \nCruises must be booked in advance by calling 507-454-2723 ext. 0 or stopping in the History Center. Space is limited.
URL:https://winonahistory.org/event/pushing-the-river/2026-05-28/1/
LOCATION:Cal Fremling Cruise Boat\, Winona Levee\, Winona\, MN\, 55987
CATEGORIES:Tours
ATTACH;FMTTYPE=image/jpeg:https://winonahistory.org/wp-content/uploads/2025/04/Cal-Fremling-16x9-1.jpg
END:VEVENT
BEGIN:VEVENT
DTSTART;TZID=America/Chicago:20260528T180000
DTEND;TZID=America/Chicago:20260528T193000
DTSTAMP:20260423T224605
CREATED:20260406T144621Z
LAST-MODIFIED:20260406T144913Z
UID:10001429-1779991200-1779996600@winonahistory.org
SUMMARY:History on the River: Pushing the River
DESCRIPTION:Frank Bures is the author of Pushing the River: An Epic Battle\, a Lost History\, a Near Death\, and Other True Canoeing Stories\, published by Minnesota Historical Society. In his program aboard the Cal Fremling\, Bures will tell some of the exciting and adventurous tales from his new book. He grew up in Winona and is a former reporter for the Winona Daily News. Copies of Pushing the River will be available to purchase on the cruise. \nCruises must be booked in advance by calling 507-454-2723 ext. 0 or stopping in the History Center. Space is limited.
URL:https://winonahistory.org/event/pushing-the-river/2026-05-28/2/
LOCATION:Cal Fremling Cruise Boat\, Winona Levee\, Winona\, MN\, 55987
CATEGORIES:Tours
ATTACH;FMTTYPE=image/jpeg:https://winonahistory.org/wp-content/uploads/2025/04/Cal-Fremling-16x9-1.jpg
END:VEVENT
END:VCALENDAR