BEGIN:VCALENDAR
VERSION:2.0
PRODID:-//Winona County Historical Society - ECPv6.15.20//NONSGML v1.0//EN
CALSCALE:GREGORIAN
METHOD:PUBLISH
X-WR-CALNAME:Winona County Historical Society
X-ORIGINAL-URL:https://winonahistory.org
X-WR-CALDESC:Events for Winona County Historical Society
REFRESH-INTERVAL;VALUE=DURATION:PT1H
X-Robots-Tag:noindex
X-PUBLISHED-TTL:PT1H
BEGIN:VTIMEZONE
TZID:America/Chicago
BEGIN:DAYLIGHT
TZOFFSETFROM:-0600
TZOFFSETTO:-0500
TZNAME:CDT
DTSTART:20240310T080000
END:DAYLIGHT
BEGIN:STANDARD
TZOFFSETFROM:-0500
TZOFFSETTO:-0600
TZNAME:CST
DTSTART:20241103T070000
END:STANDARD
BEGIN:DAYLIGHT
TZOFFSETFROM:-0600
TZOFFSETTO:-0500
TZNAME:CDT
DTSTART:20250309T080000
END:DAYLIGHT
BEGIN:STANDARD
TZOFFSETFROM:-0500
TZOFFSETTO:-0600
TZNAME:CST
DTSTART:20251102T070000
END:STANDARD
BEGIN:DAYLIGHT
TZOFFSETFROM:-0600
TZOFFSETTO:-0500
TZNAME:CDT
DTSTART:20260308T080000
END:DAYLIGHT
BEGIN:STANDARD
TZOFFSETFROM:-0500
TZOFFSETTO:-0600
TZNAME:CST
DTSTART:20261101T070000
END:STANDARD
BEGIN:DAYLIGHT
TZOFFSETFROM:-0600
TZOFFSETTO:-0500
TZNAME:CDT
DTSTART:20270314T080000
END:DAYLIGHT
BEGIN:STANDARD
TZOFFSETFROM:-0500
TZOFFSETTO:-0600
TZNAME:CST
DTSTART:20271107T070000
END:STANDARD
END:VTIMEZONE
BEGIN:VEVENT
DTSTART;TZID=America/Chicago:20260123T183000
DTEND;TZID=America/Chicago:20260123T213000
DTSTAMP:20260424T043808
CREATED:20241218T175756Z
LAST-MODIFIED:20260123T181655Z
UID:10000163-1769193000-1769203800@winonahistory.org
SUMMARY:Postponed: Murder in the Vault
DESCRIPTION:This event has been postponed due to extreme cold. View rescheduled event listing here. \n  \n  \nIt’s Murder Mystery Night at the Museum! During “Murder in the Vault\,” learn how the archivist “became history.” Was it the museum director\, janitor\, collection manager\, intern\, board member\, or a volunteer? Will you be able to solve the mystery? \nEvent Schedule:\nDoors open at 6:30 p.m. for arrival with light refreshments and a cash bar. From 7:00 to 9:30 p.m.\, we collaborate with performers in a fun\, theatrical game of “who-done-it.” Interview the suspects throughout the History Center and win prizes for being the best detectives. \nHow to Join the Mystery:\nPre-Sale Tickets: $30 | Week Of: $40\nTickets Available: Online or in person at the Winona County Historical Society. Space is limited\, so get your tickets early. \nYour Hosts:\nThis event is a co-fundraiser for the Winona County History Center and Theatre du Mississippi. Founded in 1997 and incorporated in 1998\, Theatre du Mississippi is committed to the development and production of high-quality programs in the performing arts\, particularly shows that simultaneously entertain and enlighten audiences. They aim to integrate artistic excellence and originality with a sense of community in the Winona area and beyond.
URL:https://winonahistory.org/event/murder-in-the-vault/
LOCATION:Winona County History Center\, 160 Johnson Street\, Winona\, MN\, 55987
CATEGORIES:Events
ATTACH;FMTTYPE=image/jpeg:https://winonahistory.org/wp-content/uploads/2024/12/Untitled-design-9.jpg
END:VEVENT
BEGIN:VEVENT
DTSTART;TZID=America/Chicago:20251231T100000
DTEND;TZID=America/Chicago:20251231T160000
DTSTAMP:20260424T043808
CREATED:20251124T192959Z
LAST-MODIFIED:20251124T192959Z
UID:10001043-1767175200-1767196800@winonahistory.org
SUMMARY:Make a Local Gift Basket
DESCRIPTION:Combine your Museum Shop purchases into a fun local gift. Basket\, wrap\, and ribbon included with $25 purchase or more (starting Dec. 1\, while supplies last).
URL:https://winonahistory.org/event/make-a-local-gift-basket/2025-12-31/
LOCATION:Winona County History Center\, 160 Johnson Street\, Winona\, MN\, 55987
ATTACH;FMTTYPE=image/jpeg:https://winonahistory.org/wp-content/uploads/2025/11/IMG_0803.jpg
END:VEVENT
BEGIN:VEVENT
DTSTART;TZID=America/Chicago:20251231T100000
DTEND;TZID=America/Chicago:20251231T160000
DTSTAMP:20260424T043808
CREATED:20251124T192012Z
LAST-MODIFIED:20251125T221700Z
UID:10001012-1767175200-1767196800@winonahistory.org
SUMMARY:December Members' Sale
DESCRIPTION:Winona County Historical Society members get 25% off qualifying purchases in The Museum Shop during the December Members’ Sale! Not a member? It’s a great time to join! Membership also makes a great gift\, just saying…. \nPLEASE NOTE: (The Museum Shop will be closed December 24th\, 25th\, 27th\, and 28th.) \n\n 
URL:https://winonahistory.org/event/december-members-sale/2025-12-31/
LOCATION:Winona County History Center\, 160 Johnson Street\, Winona\, MN\, 55987
ATTACH;FMTTYPE=image/jpeg:https://winonahistory.org/wp-content/uploads/2025/11/IMG_0810.jpg
END:VEVENT
BEGIN:VEVENT
DTSTART;TZID=America/Chicago:20251230T100000
DTEND;TZID=America/Chicago:20251230T160000
DTSTAMP:20260424T043808
CREATED:20251124T192959Z
LAST-MODIFIED:20251124T192959Z
UID:10001042-1767088800-1767110400@winonahistory.org
SUMMARY:Make a Local Gift Basket
DESCRIPTION:Combine your Museum Shop purchases into a fun local gift. Basket\, wrap\, and ribbon included with $25 purchase or more (starting Dec. 1\, while supplies last).
URL:https://winonahistory.org/event/make-a-local-gift-basket/2025-12-30/
LOCATION:Winona County History Center\, 160 Johnson Street\, Winona\, MN\, 55987
ATTACH;FMTTYPE=image/jpeg:https://winonahistory.org/wp-content/uploads/2025/11/IMG_0803.jpg
END:VEVENT
BEGIN:VEVENT
DTSTART;TZID=America/Chicago:20251230T100000
DTEND;TZID=America/Chicago:20251230T160000
DTSTAMP:20260424T043808
CREATED:20251124T192012Z
LAST-MODIFIED:20251125T221700Z
UID:10001011-1767088800-1767110400@winonahistory.org
SUMMARY:December Members' Sale
DESCRIPTION:Winona County Historical Society members get 25% off qualifying purchases in The Museum Shop during the December Members’ Sale! Not a member? It’s a great time to join! Membership also makes a great gift\, just saying…. \nPLEASE NOTE: (The Museum Shop will be closed December 24th\, 25th\, 27th\, and 28th.) \n\n 
URL:https://winonahistory.org/event/december-members-sale/2025-12-30/
LOCATION:Winona County History Center\, 160 Johnson Street\, Winona\, MN\, 55987
ATTACH;FMTTYPE=image/jpeg:https://winonahistory.org/wp-content/uploads/2025/11/IMG_0810.jpg
END:VEVENT
BEGIN:VEVENT
DTSTART;TZID=America/Chicago:20251229T100000
DTEND;TZID=America/Chicago:20251229T160000
DTSTAMP:20260424T043808
CREATED:20251124T192959Z
LAST-MODIFIED:20251124T192959Z
UID:10001041-1767002400-1767024000@winonahistory.org
SUMMARY:Make a Local Gift Basket
DESCRIPTION:Combine your Museum Shop purchases into a fun local gift. Basket\, wrap\, and ribbon included with $25 purchase or more (starting Dec. 1\, while supplies last).
URL:https://winonahistory.org/event/make-a-local-gift-basket/2025-12-29/
LOCATION:Winona County History Center\, 160 Johnson Street\, Winona\, MN\, 55987
ATTACH;FMTTYPE=image/jpeg:https://winonahistory.org/wp-content/uploads/2025/11/IMG_0803.jpg
END:VEVENT
BEGIN:VEVENT
DTSTART;TZID=America/Chicago:20251229T100000
DTEND;TZID=America/Chicago:20251229T160000
DTSTAMP:20260424T043808
CREATED:20251124T192012Z
LAST-MODIFIED:20251125T221700Z
UID:10001010-1767002400-1767024000@winonahistory.org
SUMMARY:December Members' Sale
DESCRIPTION:Winona County Historical Society members get 25% off qualifying purchases in The Museum Shop during the December Members’ Sale! Not a member? It’s a great time to join! Membership also makes a great gift\, just saying…. \nPLEASE NOTE: (The Museum Shop will be closed December 24th\, 25th\, 27th\, and 28th.) \n\n 
URL:https://winonahistory.org/event/december-members-sale/2025-12-29/
LOCATION:Winona County History Center\, 160 Johnson Street\, Winona\, MN\, 55987
ATTACH;FMTTYPE=image/jpeg:https://winonahistory.org/wp-content/uploads/2025/11/IMG_0810.jpg
END:VEVENT
BEGIN:VEVENT
DTSTART;TZID=America/Chicago:20251228T100000
DTEND;TZID=America/Chicago:20251228T160000
DTSTAMP:20260424T043808
CREATED:20251124T192959Z
LAST-MODIFIED:20251124T192959Z
UID:10001040-1766916000-1766937600@winonahistory.org
SUMMARY:Make a Local Gift Basket
DESCRIPTION:Combine your Museum Shop purchases into a fun local gift. Basket\, wrap\, and ribbon included with $25 purchase or more (starting Dec. 1\, while supplies last).
URL:https://winonahistory.org/event/make-a-local-gift-basket/2025-12-28/
LOCATION:Winona County History Center\, 160 Johnson Street\, Winona\, MN\, 55987
ATTACH;FMTTYPE=image/jpeg:https://winonahistory.org/wp-content/uploads/2025/11/IMG_0803.jpg
END:VEVENT
BEGIN:VEVENT
DTSTART;TZID=America/Chicago:20251227T100000
DTEND;TZID=America/Chicago:20251227T160000
DTSTAMP:20260424T043808
CREATED:20251124T192959Z
LAST-MODIFIED:20251124T192959Z
UID:10001039-1766829600-1766851200@winonahistory.org
SUMMARY:Make a Local Gift Basket
DESCRIPTION:Combine your Museum Shop purchases into a fun local gift. Basket\, wrap\, and ribbon included with $25 purchase or more (starting Dec. 1\, while supplies last).
URL:https://winonahistory.org/event/make-a-local-gift-basket/2025-12-27/
LOCATION:Winona County History Center\, 160 Johnson Street\, Winona\, MN\, 55987
ATTACH;FMTTYPE=image/jpeg:https://winonahistory.org/wp-content/uploads/2025/11/IMG_0803.jpg
END:VEVENT
BEGIN:VEVENT
DTSTART;TZID=America/Chicago:20251226T100000
DTEND;TZID=America/Chicago:20251226T160000
DTSTAMP:20260424T043808
CREATED:20251124T192959Z
LAST-MODIFIED:20251124T192959Z
UID:10001038-1766743200-1766764800@winonahistory.org
SUMMARY:Make a Local Gift Basket
DESCRIPTION:Combine your Museum Shop purchases into a fun local gift. Basket\, wrap\, and ribbon included with $25 purchase or more (starting Dec. 1\, while supplies last).
URL:https://winonahistory.org/event/make-a-local-gift-basket/2025-12-26/
LOCATION:Winona County History Center\, 160 Johnson Street\, Winona\, MN\, 55987
ATTACH;FMTTYPE=image/jpeg:https://winonahistory.org/wp-content/uploads/2025/11/IMG_0803.jpg
END:VEVENT
BEGIN:VEVENT
DTSTART;TZID=America/Chicago:20251226T100000
DTEND;TZID=America/Chicago:20251226T160000
DTSTAMP:20260424T043808
CREATED:20251124T192012Z
LAST-MODIFIED:20251125T221700Z
UID:10001007-1766743200-1766764800@winonahistory.org
SUMMARY:December Members' Sale
DESCRIPTION:Winona County Historical Society members get 25% off qualifying purchases in The Museum Shop during the December Members’ Sale! Not a member? It’s a great time to join! Membership also makes a great gift\, just saying…. \nPLEASE NOTE: (The Museum Shop will be closed December 24th\, 25th\, 27th\, and 28th.) \n\n 
URL:https://winonahistory.org/event/december-members-sale/2025-12-26/
LOCATION:Winona County History Center\, 160 Johnson Street\, Winona\, MN\, 55987
ATTACH;FMTTYPE=image/jpeg:https://winonahistory.org/wp-content/uploads/2025/11/IMG_0810.jpg
END:VEVENT
BEGIN:VEVENT
DTSTART;TZID=America/Chicago:20251225T100000
DTEND;TZID=America/Chicago:20251225T160000
DTSTAMP:20260424T043808
CREATED:20251124T192959Z
LAST-MODIFIED:20251124T192959Z
UID:10001037-1766656800-1766678400@winonahistory.org
SUMMARY:Make a Local Gift Basket
DESCRIPTION:Combine your Museum Shop purchases into a fun local gift. Basket\, wrap\, and ribbon included with $25 purchase or more (starting Dec. 1\, while supplies last).
URL:https://winonahistory.org/event/make-a-local-gift-basket/2025-12-25/
LOCATION:Winona County History Center\, 160 Johnson Street\, Winona\, MN\, 55987
ATTACH;FMTTYPE=image/jpeg:https://winonahistory.org/wp-content/uploads/2025/11/IMG_0803.jpg
END:VEVENT
BEGIN:VEVENT
DTSTART;TZID=America/Chicago:20251224T100000
DTEND;TZID=America/Chicago:20251224T160000
DTSTAMP:20260424T043808
CREATED:20251124T192959Z
LAST-MODIFIED:20251124T192959Z
UID:10001036-1766570400-1766592000@winonahistory.org
SUMMARY:Make a Local Gift Basket
DESCRIPTION:Combine your Museum Shop purchases into a fun local gift. Basket\, wrap\, and ribbon included with $25 purchase or more (starting Dec. 1\, while supplies last).
URL:https://winonahistory.org/event/make-a-local-gift-basket/2025-12-24/
LOCATION:Winona County History Center\, 160 Johnson Street\, Winona\, MN\, 55987
ATTACH;FMTTYPE=image/jpeg:https://winonahistory.org/wp-content/uploads/2025/11/IMG_0803.jpg
END:VEVENT
BEGIN:VEVENT
DTSTART;TZID=America/Chicago:20251223T100000
DTEND;TZID=America/Chicago:20251223T160000
DTSTAMP:20260424T043808
CREATED:20251124T192959Z
LAST-MODIFIED:20251124T192959Z
UID:10001035-1766484000-1766505600@winonahistory.org
SUMMARY:Make a Local Gift Basket
DESCRIPTION:Combine your Museum Shop purchases into a fun local gift. Basket\, wrap\, and ribbon included with $25 purchase or more (starting Dec. 1\, while supplies last).
URL:https://winonahistory.org/event/make-a-local-gift-basket/2025-12-23/
LOCATION:Winona County History Center\, 160 Johnson Street\, Winona\, MN\, 55987
ATTACH;FMTTYPE=image/jpeg:https://winonahistory.org/wp-content/uploads/2025/11/IMG_0803.jpg
END:VEVENT
BEGIN:VEVENT
DTSTART;TZID=America/Chicago:20251223T100000
DTEND;TZID=America/Chicago:20251223T160000
DTSTAMP:20260424T043808
CREATED:20251124T192012Z
LAST-MODIFIED:20251125T221700Z
UID:10001004-1766484000-1766505600@winonahistory.org
SUMMARY:December Members' Sale
DESCRIPTION:Winona County Historical Society members get 25% off qualifying purchases in The Museum Shop during the December Members’ Sale! Not a member? It’s a great time to join! Membership also makes a great gift\, just saying…. \nPLEASE NOTE: (The Museum Shop will be closed December 24th\, 25th\, 27th\, and 28th.) \n\n 
URL:https://winonahistory.org/event/december-members-sale/2025-12-23/
LOCATION:Winona County History Center\, 160 Johnson Street\, Winona\, MN\, 55987
ATTACH;FMTTYPE=image/jpeg:https://winonahistory.org/wp-content/uploads/2025/11/IMG_0810.jpg
END:VEVENT
BEGIN:VEVENT
DTSTART;TZID=America/Chicago:20251222T100000
DTEND;TZID=America/Chicago:20251222T160000
DTSTAMP:20260424T043808
CREATED:20251124T192959Z
LAST-MODIFIED:20251124T192959Z
UID:10001034-1766397600-1766419200@winonahistory.org
SUMMARY:Make a Local Gift Basket
DESCRIPTION:Combine your Museum Shop purchases into a fun local gift. Basket\, wrap\, and ribbon included with $25 purchase or more (starting Dec. 1\, while supplies last).
URL:https://winonahistory.org/event/make-a-local-gift-basket/2025-12-22/
LOCATION:Winona County History Center\, 160 Johnson Street\, Winona\, MN\, 55987
ATTACH;FMTTYPE=image/jpeg:https://winonahistory.org/wp-content/uploads/2025/11/IMG_0803.jpg
END:VEVENT
BEGIN:VEVENT
DTSTART;TZID=America/Chicago:20251222T100000
DTEND;TZID=America/Chicago:20251222T160000
DTSTAMP:20260424T043808
CREATED:20251124T192012Z
LAST-MODIFIED:20251125T221700Z
UID:10001003-1766397600-1766419200@winonahistory.org
SUMMARY:December Members' Sale
DESCRIPTION:Winona County Historical Society members get 25% off qualifying purchases in The Museum Shop during the December Members’ Sale! Not a member? It’s a great time to join! Membership also makes a great gift\, just saying…. \nPLEASE NOTE: (The Museum Shop will be closed December 24th\, 25th\, 27th\, and 28th.) \n\n 
URL:https://winonahistory.org/event/december-members-sale/2025-12-22/
LOCATION:Winona County History Center\, 160 Johnson Street\, Winona\, MN\, 55987
ATTACH;FMTTYPE=image/jpeg:https://winonahistory.org/wp-content/uploads/2025/11/IMG_0810.jpg
END:VEVENT
BEGIN:VEVENT
DTSTART;TZID=America/Chicago:20251221T100000
DTEND;TZID=America/Chicago:20251221T160000
DTSTAMP:20260424T043808
CREATED:20251124T192959Z
LAST-MODIFIED:20251124T192959Z
UID:10001033-1766311200-1766332800@winonahistory.org
SUMMARY:Make a Local Gift Basket
DESCRIPTION:Combine your Museum Shop purchases into a fun local gift. Basket\, wrap\, and ribbon included with $25 purchase or more (starting Dec. 1\, while supplies last).
URL:https://winonahistory.org/event/make-a-local-gift-basket/2025-12-21/
LOCATION:Winona County History Center\, 160 Johnson Street\, Winona\, MN\, 55987
ATTACH;FMTTYPE=image/jpeg:https://winonahistory.org/wp-content/uploads/2025/11/IMG_0803.jpg
END:VEVENT
BEGIN:VEVENT
DTSTART;TZID=America/Chicago:20251221T100000
DTEND;TZID=America/Chicago:20251221T160000
DTSTAMP:20260424T043808
CREATED:20251124T192012Z
LAST-MODIFIED:20251125T221700Z
UID:10001002-1766311200-1766332800@winonahistory.org
SUMMARY:December Members' Sale
DESCRIPTION:Winona County Historical Society members get 25% off qualifying purchases in The Museum Shop during the December Members’ Sale! Not a member? It’s a great time to join! Membership also makes a great gift\, just saying…. \nPLEASE NOTE: (The Museum Shop will be closed December 24th\, 25th\, 27th\, and 28th.) \n\n 
URL:https://winonahistory.org/event/december-members-sale/2025-12-21/
LOCATION:Winona County History Center\, 160 Johnson Street\, Winona\, MN\, 55987
ATTACH;FMTTYPE=image/jpeg:https://winonahistory.org/wp-content/uploads/2025/11/IMG_0810.jpg
END:VEVENT
BEGIN:VEVENT
DTSTART;TZID=America/Chicago:20251220T100000
DTEND;TZID=America/Chicago:20251220T160000
DTSTAMP:20260424T043808
CREATED:20251124T192959Z
LAST-MODIFIED:20251124T192959Z
UID:10001032-1766224800-1766246400@winonahistory.org
SUMMARY:Make a Local Gift Basket
DESCRIPTION:Combine your Museum Shop purchases into a fun local gift. Basket\, wrap\, and ribbon included with $25 purchase or more (starting Dec. 1\, while supplies last).
URL:https://winonahistory.org/event/make-a-local-gift-basket/2025-12-20/
LOCATION:Winona County History Center\, 160 Johnson Street\, Winona\, MN\, 55987
ATTACH;FMTTYPE=image/jpeg:https://winonahistory.org/wp-content/uploads/2025/11/IMG_0803.jpg
END:VEVENT
BEGIN:VEVENT
DTSTART;TZID=America/Chicago:20251220T100000
DTEND;TZID=America/Chicago:20251220T160000
DTSTAMP:20260424T043808
CREATED:20251124T192012Z
LAST-MODIFIED:20251125T221700Z
UID:10001001-1766224800-1766246400@winonahistory.org
SUMMARY:December Members' Sale
DESCRIPTION:Winona County Historical Society members get 25% off qualifying purchases in The Museum Shop during the December Members’ Sale! Not a member? It’s a great time to join! Membership also makes a great gift\, just saying…. \nPLEASE NOTE: (The Museum Shop will be closed December 24th\, 25th\, 27th\, and 28th.) \n\n 
URL:https://winonahistory.org/event/december-members-sale/2025-12-20/
LOCATION:Winona County History Center\, 160 Johnson Street\, Winona\, MN\, 55987
ATTACH;FMTTYPE=image/jpeg:https://winonahistory.org/wp-content/uploads/2025/11/IMG_0810.jpg
END:VEVENT
BEGIN:VEVENT
DTSTART;TZID=America/Chicago:20251219T100000
DTEND;TZID=America/Chicago:20251219T160000
DTSTAMP:20260424T043808
CREATED:20251124T192959Z
LAST-MODIFIED:20251124T192959Z
UID:10001031-1766138400-1766160000@winonahistory.org
SUMMARY:Make a Local Gift Basket
DESCRIPTION:Combine your Museum Shop purchases into a fun local gift. Basket\, wrap\, and ribbon included with $25 purchase or more (starting Dec. 1\, while supplies last).
URL:https://winonahistory.org/event/make-a-local-gift-basket/2025-12-19/
LOCATION:Winona County History Center\, 160 Johnson Street\, Winona\, MN\, 55987
ATTACH;FMTTYPE=image/jpeg:https://winonahistory.org/wp-content/uploads/2025/11/IMG_0803.jpg
END:VEVENT
BEGIN:VEVENT
DTSTART;TZID=America/Chicago:20251219T100000
DTEND;TZID=America/Chicago:20251219T160000
DTSTAMP:20260424T043808
CREATED:20251124T192012Z
LAST-MODIFIED:20251125T221700Z
UID:10001000-1766138400-1766160000@winonahistory.org
SUMMARY:December Members' Sale
DESCRIPTION:Winona County Historical Society members get 25% off qualifying purchases in The Museum Shop during the December Members’ Sale! Not a member? It’s a great time to join! Membership also makes a great gift\, just saying…. \nPLEASE NOTE: (The Museum Shop will be closed December 24th\, 25th\, 27th\, and 28th.) \n\n 
URL:https://winonahistory.org/event/december-members-sale/2025-12-19/
LOCATION:Winona County History Center\, 160 Johnson Street\, Winona\, MN\, 55987
ATTACH;FMTTYPE=image/jpeg:https://winonahistory.org/wp-content/uploads/2025/11/IMG_0810.jpg
END:VEVENT
BEGIN:VEVENT
DTSTART;TZID=America/Chicago:20251218T100000
DTEND;TZID=America/Chicago:20251218T160000
DTSTAMP:20260424T043808
CREATED:20251124T192959Z
LAST-MODIFIED:20251124T192959Z
UID:10001030-1766052000-1766073600@winonahistory.org
SUMMARY:Make a Local Gift Basket
DESCRIPTION:Combine your Museum Shop purchases into a fun local gift. Basket\, wrap\, and ribbon included with $25 purchase or more (starting Dec. 1\, while supplies last).
URL:https://winonahistory.org/event/make-a-local-gift-basket/2025-12-18/
LOCATION:Winona County History Center\, 160 Johnson Street\, Winona\, MN\, 55987
ATTACH;FMTTYPE=image/jpeg:https://winonahistory.org/wp-content/uploads/2025/11/IMG_0803.jpg
END:VEVENT
BEGIN:VEVENT
DTSTART;TZID=America/Chicago:20251218T100000
DTEND;TZID=America/Chicago:20251218T160000
DTSTAMP:20260424T043808
CREATED:20251124T192012Z
LAST-MODIFIED:20251125T221700Z
UID:10000999-1766052000-1766073600@winonahistory.org
SUMMARY:December Members' Sale
DESCRIPTION:Winona County Historical Society members get 25% off qualifying purchases in The Museum Shop during the December Members’ Sale! Not a member? It’s a great time to join! Membership also makes a great gift\, just saying…. \nPLEASE NOTE: (The Museum Shop will be closed December 24th\, 25th\, 27th\, and 28th.) \n\n 
URL:https://winonahistory.org/event/december-members-sale/2025-12-18/
LOCATION:Winona County History Center\, 160 Johnson Street\, Winona\, MN\, 55987
ATTACH;FMTTYPE=image/jpeg:https://winonahistory.org/wp-content/uploads/2025/11/IMG_0810.jpg
END:VEVENT
BEGIN:VEVENT
DTSTART;TZID=America/Chicago:20251217T100000
DTEND;TZID=America/Chicago:20251217T160000
DTSTAMP:20260424T043808
CREATED:20251124T192959Z
LAST-MODIFIED:20251124T192959Z
UID:10001029-1765965600-1765987200@winonahistory.org
SUMMARY:Make a Local Gift Basket
DESCRIPTION:Combine your Museum Shop purchases into a fun local gift. Basket\, wrap\, and ribbon included with $25 purchase or more (starting Dec. 1\, while supplies last).
URL:https://winonahistory.org/event/make-a-local-gift-basket/2025-12-17/
LOCATION:Winona County History Center\, 160 Johnson Street\, Winona\, MN\, 55987
ATTACH;FMTTYPE=image/jpeg:https://winonahistory.org/wp-content/uploads/2025/11/IMG_0803.jpg
END:VEVENT
BEGIN:VEVENT
DTSTART;TZID=America/Chicago:20251217T100000
DTEND;TZID=America/Chicago:20251217T160000
DTSTAMP:20260424T043808
CREATED:20251124T192012Z
LAST-MODIFIED:20251125T221700Z
UID:10000998-1765965600-1765987200@winonahistory.org
SUMMARY:December Members' Sale
DESCRIPTION:Winona County Historical Society members get 25% off qualifying purchases in The Museum Shop during the December Members’ Sale! Not a member? It’s a great time to join! Membership also makes a great gift\, just saying…. \nPLEASE NOTE: (The Museum Shop will be closed December 24th\, 25th\, 27th\, and 28th.) \n\n 
URL:https://winonahistory.org/event/december-members-sale/2025-12-17/
LOCATION:Winona County History Center\, 160 Johnson Street\, Winona\, MN\, 55987
ATTACH;FMTTYPE=image/jpeg:https://winonahistory.org/wp-content/uploads/2025/11/IMG_0810.jpg
END:VEVENT
BEGIN:VEVENT
DTSTART;TZID=America/Chicago:20251216T100000
DTEND;TZID=America/Chicago:20251216T160000
DTSTAMP:20260424T043808
CREATED:20251124T192959Z
LAST-MODIFIED:20251124T192959Z
UID:10001028-1765879200-1765900800@winonahistory.org
SUMMARY:Make a Local Gift Basket
DESCRIPTION:Combine your Museum Shop purchases into a fun local gift. Basket\, wrap\, and ribbon included with $25 purchase or more (starting Dec. 1\, while supplies last).
URL:https://winonahistory.org/event/make-a-local-gift-basket/2025-12-16/
LOCATION:Winona County History Center\, 160 Johnson Street\, Winona\, MN\, 55987
ATTACH;FMTTYPE=image/jpeg:https://winonahistory.org/wp-content/uploads/2025/11/IMG_0803.jpg
END:VEVENT
BEGIN:VEVENT
DTSTART;TZID=America/Chicago:20251216T100000
DTEND;TZID=America/Chicago:20251216T160000
DTSTAMP:20260424T043808
CREATED:20251124T192012Z
LAST-MODIFIED:20251125T221700Z
UID:10000997-1765879200-1765900800@winonahistory.org
SUMMARY:December Members' Sale
DESCRIPTION:Winona County Historical Society members get 25% off qualifying purchases in The Museum Shop during the December Members’ Sale! Not a member? It’s a great time to join! Membership also makes a great gift\, just saying…. \nPLEASE NOTE: (The Museum Shop will be closed December 24th\, 25th\, 27th\, and 28th.) \n\n 
URL:https://winonahistory.org/event/december-members-sale/2025-12-16/
LOCATION:Winona County History Center\, 160 Johnson Street\, Winona\, MN\, 55987
ATTACH;FMTTYPE=image/jpeg:https://winonahistory.org/wp-content/uploads/2025/11/IMG_0810.jpg
END:VEVENT
BEGIN:VEVENT
DTSTART;TZID=America/Chicago:20251215T100000
DTEND;TZID=America/Chicago:20251215T160000
DTSTAMP:20260424T043808
CREATED:20251124T192959Z
LAST-MODIFIED:20251124T192959Z
UID:10001027-1765792800-1765814400@winonahistory.org
SUMMARY:Make a Local Gift Basket
DESCRIPTION:Combine your Museum Shop purchases into a fun local gift. Basket\, wrap\, and ribbon included with $25 purchase or more (starting Dec. 1\, while supplies last).
URL:https://winonahistory.org/event/make-a-local-gift-basket/2025-12-15/
LOCATION:Winona County History Center\, 160 Johnson Street\, Winona\, MN\, 55987
ATTACH;FMTTYPE=image/jpeg:https://winonahistory.org/wp-content/uploads/2025/11/IMG_0803.jpg
END:VEVENT
END:VCALENDAR