BEGIN:VCALENDAR
VERSION:2.0
PRODID:-//Winona County Historical Society - ECPv6.15.20//NONSGML v1.0//EN
CALSCALE:GREGORIAN
METHOD:PUBLISH
X-WR-CALNAME:Winona County Historical Society
X-ORIGINAL-URL:https://winonahistory.org
X-WR-CALDESC:Events for Winona County Historical Society
REFRESH-INTERVAL;VALUE=DURATION:PT1H
X-Robots-Tag:noindex
X-PUBLISHED-TTL:PT1H
BEGIN:VTIMEZONE
TZID:America/Chicago
BEGIN:DAYLIGHT
TZOFFSETFROM:-0600
TZOFFSETTO:-0500
TZNAME:CDT
DTSTART:20250309T080000
END:DAYLIGHT
BEGIN:STANDARD
TZOFFSETFROM:-0500
TZOFFSETTO:-0600
TZNAME:CST
DTSTART:20251102T070000
END:STANDARD
BEGIN:DAYLIGHT
TZOFFSETFROM:-0600
TZOFFSETTO:-0500
TZNAME:CDT
DTSTART:20260308T080000
END:DAYLIGHT
BEGIN:STANDARD
TZOFFSETFROM:-0500
TZOFFSETTO:-0600
TZNAME:CST
DTSTART:20261101T070000
END:STANDARD
BEGIN:DAYLIGHT
TZOFFSETFROM:-0600
TZOFFSETTO:-0500
TZNAME:CDT
DTSTART:20270314T080000
END:DAYLIGHT
BEGIN:STANDARD
TZOFFSETFROM:-0500
TZOFFSETTO:-0600
TZNAME:CST
DTSTART:20271107T070000
END:STANDARD
END:VTIMEZONE
BEGIN:VEVENT
DTSTART;TZID=America/Chicago:20260624T120000
DTEND;TZID=America/Chicago:20260624T130000
DTSTAMP:20260425T150759
CREATED:20260218T173938Z
LAST-MODIFIED:20260218T173938Z
UID:10001422-1782302400-1782306000@winonahistory.org
SUMMARY:History Buff Book Chat: The Kitchen Front
DESCRIPTION:For our June History Buff Book Chat\, we will discuss The Kitchen Front by Jennifer Ryan. \nTwo years into World War II\, Britain is feeling her losses: The Nazis have won battles\, the Blitz has destroyed cities\, and U-boats have cut off the supply of food. In an effort to help housewives with food rationing\, a BBC radio program called The Kitchen Front is holding a cooking contest—and the grand prize is a job as the program’s first-ever female co-host. For four very different women\, winning the competition would present a crucial chance to change their lives. \nJoin in a conversation about a different book each month from 12:00 – 1:00 p.m. The Book Chat group is open to everyone. Meet in Wanek Hall on the second floor of the Winona County History Center. Feel free to bring your lunch! \nUpcoming books:\n 
URL:https://winonahistory.org/event/the-kitchen-front/
LOCATION:Winona County History Center\, 160 Johnson Street\, Winona\, MN\, 55987
CATEGORIES:Programs
ATTACH;FMTTYPE=image/jpeg:https://winonahistory.org/wp-content/uploads/2024/02/books.jpg
END:VEVENT
BEGIN:VEVENT
DTSTART;TZID=America/Chicago:20260625T160000
DTEND;TZID=America/Chicago:20260625T173000
DTSTAMP:20260425T150759
CREATED:20250424T184216Z
LAST-MODIFIED:20260406T145512Z
UID:10001430-1782403200-1782408600@winonahistory.org
SUMMARY:History on the River: The Clamming and Pearl Button Industry
DESCRIPTION:In “The Clamming and Pearl Button Industry as Told by a Clammer’s Wife\,” storyteller Terry Visger shares a variety of stories for people of all ages. Taking on the persona of a clammer’s wife from 1900\, Terry tells the story of the clamming industry in which freshwater mussels were harvested from the Mississippi River\, sent to factories\, and made into buttons. After the story\, Terry shares information about these mussels\, which are now one of the most endangered animals in the US. \nCruises must be booked in advance by calling 507-454-2723 ext. 0 or stopping in the History Center. Space is limited.
URL:https://winonahistory.org/event/clamming-and-pearl-button-industry/2026-06-25/1/
LOCATION:Cal Fremling Cruise Boat\, Winona Levee\, Winona\, MN\, 55987
CATEGORIES:Tours
ATTACH;FMTTYPE=image/jpeg:https://winonahistory.org/wp-content/uploads/2025/04/Cal-Fremling-16x9-1.jpg
END:VEVENT
BEGIN:VEVENT
DTSTART;TZID=America/Chicago:20260625T180000
DTEND;TZID=America/Chicago:20260625T193000
DTSTAMP:20260425T150759
CREATED:20250424T184216Z
LAST-MODIFIED:20260406T145512Z
UID:10001431-1782410400-1782415800@winonahistory.org
SUMMARY:History on the River: The Clamming and Pearl Button Industry
DESCRIPTION:In “The Clamming and Pearl Button Industry as Told by a Clammer’s Wife\,” storyteller Terry Visger shares a variety of stories for people of all ages. Taking on the persona of a clammer’s wife from 1900\, Terry tells the story of the clamming industry in which freshwater mussels were harvested from the Mississippi River\, sent to factories\, and made into buttons. After the story\, Terry shares information about these mussels\, which are now one of the most endangered animals in the US. \nCruises must be booked in advance by calling 507-454-2723 ext. 0 or stopping in the History Center. Space is limited.
URL:https://winonahistory.org/event/clamming-and-pearl-button-industry/2026-06-25/2/
LOCATION:Cal Fremling Cruise Boat\, Winona Levee\, Winona\, MN\, 55987
CATEGORIES:Tours
ATTACH;FMTTYPE=image/jpeg:https://winonahistory.org/wp-content/uploads/2025/04/Cal-Fremling-16x9-1.jpg
END:VEVENT
BEGIN:VEVENT
DTSTART;TZID=America/Chicago:20260730T160000
DTEND;TZID=America/Chicago:20260730T173000
DTSTAMP:20260425T150759
CREATED:20250505T190547Z
LAST-MODIFIED:20260406T150640Z
UID:10001433-1785427200-1785432600@winonahistory.org
SUMMARY:History on the River: The Legacy of Cal Fremling
DESCRIPTION:With speaker Michael Kennedy\, discover the legacy of Cal Fremling. Dr. Cal Fremling was one of the foremost authorities on the endangered environment of the Upper Mississippi River and spend most of his professional career studying the human effect on the River. Fremling was a researcher and a professor for thirty-two years at Winona Sate University and the author of Immortal River: The Upper Mississippi in Ancient and Modern Times. \nCruises must be booked in advance by calling 507-454-2723 ext. 0 or stopping in the History Center. Space is limited.
URL:https://winonahistory.org/event/the-legacy-of-cal-fremling/2026-07-30/1/
LOCATION:Cal Fremling Cruise Boat\, Winona Levee\, Winona\, MN\, 55987
CATEGORIES:Tours
ATTACH;FMTTYPE=image/jpeg:https://winonahistory.org/wp-content/uploads/2025/04/Cal-Fremling-16x9-1.jpg
END:VEVENT
BEGIN:VEVENT
DTSTART;TZID=America/Chicago:20260730T180000
DTEND;TZID=America/Chicago:20260730T193000
DTSTAMP:20260425T150759
CREATED:20250505T190547Z
LAST-MODIFIED:20260406T150640Z
UID:10001434-1785434400-1785439800@winonahistory.org
SUMMARY:History on the River: The Legacy of Cal Fremling
DESCRIPTION:With speaker Michael Kennedy\, discover the legacy of Cal Fremling. Dr. Cal Fremling was one of the foremost authorities on the endangered environment of the Upper Mississippi River and spend most of his professional career studying the human effect on the River. Fremling was a researcher and a professor for thirty-two years at Winona Sate University and the author of Immortal River: The Upper Mississippi in Ancient and Modern Times. \nCruises must be booked in advance by calling 507-454-2723 ext. 0 or stopping in the History Center. Space is limited.
URL:https://winonahistory.org/event/the-legacy-of-cal-fremling/2026-07-30/2/
LOCATION:Cal Fremling Cruise Boat\, Winona Levee\, Winona\, MN\, 55987
CATEGORIES:Tours
ATTACH;FMTTYPE=image/jpeg:https://winonahistory.org/wp-content/uploads/2025/04/Cal-Fremling-16x9-1.jpg
END:VEVENT
BEGIN:VEVENT
DTSTART;TZID=America/Chicago:20260827T160000
DTEND;TZID=America/Chicago:20260827T173000
DTSTAMP:20260425T150759
CREATED:20250505T191350Z
LAST-MODIFIED:20260406T151321Z
UID:10001435-1787846400-1787851800@winonahistory.org
SUMMARY:History on the River: Navigating the Lock and Dam System
DESCRIPTION:Learn about the history\, creation\, and modern work of the Mississippi River Lock and Dam System with local lock master\, Judy Denzer. \nCruises must be booked in advance by calling 507-454-2723 ext. 0 or stopping in the History Center. Space is limited.
URL:https://winonahistory.org/event/navigating-the-lock-and-dam-system/2026-08-27/1/
LOCATION:Cal Fremling Cruise Boat\, Winona Levee\, Winona\, MN\, 55987
CATEGORIES:Tours
ATTACH;FMTTYPE=image/jpeg:https://winonahistory.org/wp-content/uploads/2025/04/Cal-Fremling-16x9-1.jpg
END:VEVENT
BEGIN:VEVENT
DTSTART;TZID=America/Chicago:20260827T180000
DTEND;TZID=America/Chicago:20260827T193000
DTSTAMP:20260425T150759
CREATED:20250505T191350Z
LAST-MODIFIED:20260406T151321Z
UID:10001436-1787853600-1787859000@winonahistory.org
SUMMARY:History on the River: Navigating the Lock and Dam System
DESCRIPTION:Learn about the history\, creation\, and modern work of the Mississippi River Lock and Dam System with local lock master\, Judy Denzer. \nCruises must be booked in advance by calling 507-454-2723 ext. 0 or stopping in the History Center. Space is limited.
URL:https://winonahistory.org/event/navigating-the-lock-and-dam-system/2026-08-27/2/
LOCATION:Cal Fremling Cruise Boat\, Winona Levee\, Winona\, MN\, 55987
CATEGORIES:Tours
ATTACH;FMTTYPE=image/jpeg:https://winonahistory.org/wp-content/uploads/2025/04/Cal-Fremling-16x9-1.jpg
END:VEVENT
END:VCALENDAR