BEGIN:VCALENDAR
VERSION:2.0
PRODID:-//Winona County Historical Society - ECPv6.15.20//NONSGML v1.0//EN
CALSCALE:GREGORIAN
METHOD:PUBLISH
X-ORIGINAL-URL:https://winonahistory.org
X-WR-CALDESC:Events for Winona County Historical Society
REFRESH-INTERVAL;VALUE=DURATION:PT1H
X-Robots-Tag:noindex
X-PUBLISHED-TTL:PT1H
BEGIN:VTIMEZONE
TZID:America/Chicago
BEGIN:DAYLIGHT
TZOFFSETFROM:-0600
TZOFFSETTO:-0500
TZNAME:CDT
DTSTART:20250309T080000
END:DAYLIGHT
BEGIN:STANDARD
TZOFFSETFROM:-0500
TZOFFSETTO:-0600
TZNAME:CST
DTSTART:20251102T070000
END:STANDARD
BEGIN:DAYLIGHT
TZOFFSETFROM:-0600
TZOFFSETTO:-0500
TZNAME:CDT
DTSTART:20260308T080000
END:DAYLIGHT
BEGIN:STANDARD
TZOFFSETFROM:-0500
TZOFFSETTO:-0600
TZNAME:CST
DTSTART:20261101T070000
END:STANDARD
BEGIN:DAYLIGHT
TZOFFSETFROM:-0600
TZOFFSETTO:-0500
TZNAME:CDT
DTSTART:20270314T080000
END:DAYLIGHT
BEGIN:STANDARD
TZOFFSETFROM:-0500
TZOFFSETTO:-0600
TZNAME:CST
DTSTART:20271107T070000
END:STANDARD
END:VTIMEZONE
BEGIN:VEVENT
DTSTART;TZID=America/Chicago:20260225T120000
DTEND;TZID=America/Chicago:20260225T130000
DTSTAMP:20260425T120558
CREATED:20250317T212118Z
LAST-MODIFIED:20260218T174241Z
UID:10000180-1772020800-1772024400@winonahistory.org
SUMMARY:History Buff Book Chat: Storm Clouds Rolling In
DESCRIPTION:For our February History Buff Book Chat\, we will discuss Bregdan Chronicles: Storm Clouds Rolling In by Ginny Dye. \nThis book launches The Bregdan Chronicles\, a sweeping saga of courage\, sacrifice\, and resilience told through both Black and White\, Free and Enslaved\, Northern and Southern characters during the Civil War. Carrie Cromwell\, fiery and strong-willed\, finds herself torn between the South’s traditions and the dangerous truths she discovers through the Underground Railroad. As war erupts\, every choice she makes risks her family\, her freedom\, and the lives of those she loves most. \nMeet in Wanek Hall on the second floor of the Winona County History Center. Feel free to bring your lunch! \n  \nUpcoming Books: \nAll the Light We Cannot See | March 25 \nThe Briar Club | April 22 \nThis Tender Land | May 27 \nThe Kitchen Front | June 24
URL:https://winonahistory.org/event/storm-clouds-rolling-in/
LOCATION:Winona County History Center\, 160 Johnson Street\, Winona\, MN\, 55987
CATEGORIES:Programs
ATTACH;FMTTYPE=image/jpeg:https://winonahistory.org/wp-content/uploads/2024/02/books.jpg
END:VEVENT
END:VCALENDAR