BEGIN:VCALENDAR
VERSION:2.0
PRODID:-//Winona County Historical Society - ECPv6.15.20//NONSGML v1.0//EN
CALSCALE:GREGORIAN
METHOD:PUBLISH
X-ORIGINAL-URL:https://winonahistory.org
X-WR-CALDESC:Events for Winona County Historical Society
REFRESH-INTERVAL;VALUE=DURATION:PT1H
X-Robots-Tag:noindex
X-PUBLISHED-TTL:PT1H
BEGIN:VTIMEZONE
TZID:America/Chicago
BEGIN:DAYLIGHT
TZOFFSETFROM:-0600
TZOFFSETTO:-0500
TZNAME:CDT
DTSTART:20240310T080000
END:DAYLIGHT
BEGIN:STANDARD
TZOFFSETFROM:-0500
TZOFFSETTO:-0600
TZNAME:CST
DTSTART:20241103T070000
END:STANDARD
BEGIN:DAYLIGHT
TZOFFSETFROM:-0600
TZOFFSETTO:-0500
TZNAME:CDT
DTSTART:20250309T080000
END:DAYLIGHT
BEGIN:STANDARD
TZOFFSETFROM:-0500
TZOFFSETTO:-0600
TZNAME:CST
DTSTART:20251102T070000
END:STANDARD
BEGIN:DAYLIGHT
TZOFFSETFROM:-0600
TZOFFSETTO:-0500
TZNAME:CDT
DTSTART:20260308T080000
END:DAYLIGHT
BEGIN:STANDARD
TZOFFSETFROM:-0500
TZOFFSETTO:-0600
TZNAME:CST
DTSTART:20261101T070000
END:STANDARD
END:VTIMEZONE
BEGIN:VEVENT
DTSTART;TZID=America/Chicago:20250916T190000
DTEND;TZID=America/Chicago:20250916T200000
DTSTAMP:20260425T200402
CREATED:20240128T205348Z
LAST-MODIFIED:20250915T174159Z
UID:10000106-1758049200-1758052800@winonahistory.org
SUMMARY:Sandbar Storytelling Festival: Project FINE Immigrant Stories
DESCRIPTION:Please join Sandbar Storytelling Festival at the History Center again as Fatima Said\, Executive Director of Project FINE\, introduces us to some of the most fascinating\, and many times heart-wrenching\, stories of immigrants from around the world who have landed in Winona. You will hear their stories\, some through language interpreters\, of how they left their home countries and came to the United States for a better and safer life for their families. Project FINE (Focus on Integrating Newcomers through Education) has been serving refugees and immigrants in Winona County and the surrounding area since 1990. Hear the personal and inspirational stories of immigrants who have chosen to call Winona home. \nThis event is free and open to the public. However\, the Wanek Room only holds 80 people. So\, arrive early to get a seat! Refreshments will be served.
URL:https://winonahistory.org/event/sandbar-storytelling-festival-project-fine/
LOCATION:Winona County History Center\, 160 Johnson Street\, Winona\, MN\, 55987
CATEGORIES:Education Opportunities,Programs
ATTACH;FMTTYPE=image/png:https://winonahistory.org/wp-content/uploads/2024/01/SSF_Logo_Badge_RGB.png
END:VEVENT
END:VCALENDAR