BEGIN:VCALENDAR
VERSION:2.0
PRODID:-//Winona County Historical Society - ECPv6.15.20//NONSGML v1.0//EN
CALSCALE:GREGORIAN
METHOD:PUBLISH
X-ORIGINAL-URL:https://winonahistory.org
X-WR-CALDESC:Events for Winona County Historical Society
REFRESH-INTERVAL;VALUE=DURATION:PT1H
X-Robots-Tag:noindex
X-PUBLISHED-TTL:PT1H
BEGIN:VTIMEZONE
TZID:America/Chicago
BEGIN:DAYLIGHT
TZOFFSETFROM:-0600
TZOFFSETTO:-0500
TZNAME:CDT
DTSTART:20240310T080000
END:DAYLIGHT
BEGIN:STANDARD
TZOFFSETFROM:-0500
TZOFFSETTO:-0600
TZNAME:CST
DTSTART:20241103T070000
END:STANDARD
BEGIN:DAYLIGHT
TZOFFSETFROM:-0600
TZOFFSETTO:-0500
TZNAME:CDT
DTSTART:20250309T080000
END:DAYLIGHT
BEGIN:STANDARD
TZOFFSETFROM:-0500
TZOFFSETTO:-0600
TZNAME:CST
DTSTART:20251102T070000
END:STANDARD
BEGIN:DAYLIGHT
TZOFFSETFROM:-0600
TZOFFSETTO:-0500
TZNAME:CDT
DTSTART:20260308T080000
END:DAYLIGHT
BEGIN:STANDARD
TZOFFSETFROM:-0500
TZOFFSETTO:-0600
TZNAME:CST
DTSTART:20261101T070000
END:STANDARD
END:VTIMEZONE
BEGIN:VEVENT
DTSTART;TZID=America/Chicago:20251002T180000
DTEND;TZID=America/Chicago:20251002T200000
DTSTAMP:20260425T120750
CREATED:20240820T202134Z
LAST-MODIFIED:20250918T144815Z
UID:10000154-1759428000-1759435200@winonahistory.org
SUMMARY:Voices from the Past: Indoor Accessible Performance
DESCRIPTION:Admission: $10 Adults\, $5 Students\, $3 Youth 4-7 years old \nCome hear about “Disasters!” during the 2025 Voices from the Past Indoor Accessible Performance at the History Center! Traverse through time with community actors portraying people of our past. In 2025\, meet past Winona County residents who have stories to tell about local….Disasters! From fires and floods to tornados and accidents\, learn about the resilience of county communities of the past. \nAdmission is taken at the front door when you arrive. Seats are first-come-first-served\, so keep this in mind as you plan your evening!
URL:https://winonahistory.org/event/indoor-accessible-performance/
LOCATION:Winona County History Center\, 160 Johnson Street\, Winona\, MN\, 55987
ATTACH;FMTTYPE=image/jpeg:https://winonahistory.org/wp-content/uploads/2024/08/CemWalk2022Indoor_Weaver6.jpg
END:VEVENT
END:VCALENDAR