BEGIN:VCALENDAR
VERSION:2.0
PRODID:-//Winona County Historical Society - ECPv6.15.20//NONSGML v1.0//EN
CALSCALE:GREGORIAN
METHOD:PUBLISH
X-WR-CALNAME:Winona County Historical Society
X-ORIGINAL-URL:https://winonahistory.org
X-WR-CALDESC:Events for Winona County Historical Society
REFRESH-INTERVAL;VALUE=DURATION:PT1H
X-Robots-Tag:noindex
X-PUBLISHED-TTL:PT1H
BEGIN:VTIMEZONE
TZID:America/Chicago
BEGIN:DAYLIGHT
TZOFFSETFROM:-0600
TZOFFSETTO:-0500
TZNAME:CDT
DTSTART:20240310T080000
END:DAYLIGHT
BEGIN:STANDARD
TZOFFSETFROM:-0500
TZOFFSETTO:-0600
TZNAME:CST
DTSTART:20241103T070000
END:STANDARD
BEGIN:DAYLIGHT
TZOFFSETFROM:-0600
TZOFFSETTO:-0500
TZNAME:CDT
DTSTART:20250309T080000
END:DAYLIGHT
BEGIN:STANDARD
TZOFFSETFROM:-0500
TZOFFSETTO:-0600
TZNAME:CST
DTSTART:20251102T070000
END:STANDARD
BEGIN:DAYLIGHT
TZOFFSETFROM:-0600
TZOFFSETTO:-0500
TZNAME:CDT
DTSTART:20260308T080000
END:DAYLIGHT
BEGIN:STANDARD
TZOFFSETFROM:-0500
TZOFFSETTO:-0600
TZNAME:CST
DTSTART:20261101T070000
END:STANDARD
END:VTIMEZONE
BEGIN:VEVENT
DTSTART;TZID=America/Chicago:20251023T130000
DTEND;TZID=America/Chicago:20251023T140000
DTSTAMP:20260425T154027
CREATED:20240926T141814Z
LAST-MODIFIED:20251013T150937Z
UID:10000157-1761224400-1761228000@winonahistory.org
SUMMARY:Winona Walking Tours: Haunted History at Woodlawn Cemetery
DESCRIPTION:We’re bringing back the Haunted Walking Tour at Woodlawn Cemetery on Thursday\, October 23\, 1 – 2pm! We will walk outdoors together through one of Winona’s most haunted locations. Meet at the main entrance to the cemetery\, rendezvous with your guide\, and get ready for stories of ghosts\, vampires\, and more. \nSpace is limited\, so reserve your spot by calling 507-454-2723 ext. 0. Your host will collect exact cash or check payment at the Woodlawn Cemetery entrance gate upon your arrival on the tour date. Tickets: Adult $10\, Member $6.
URL:https://winonahistory.org/event/haunted-history-walking-tour/
LOCATION:Woodlawn Cemetery\, 506 W Lake Blvd\, Winona\, Minnesota\, 55987
ATTACH;FMTTYPE=image/jpeg:https://winonahistory.org/wp-content/uploads/2024/09/Haunted-History-Cemetery-Walk.jpg
END:VEVENT
END:VCALENDAR