BEGIN:VCALENDAR
VERSION:2.0
PRODID:-//Winona County Historical Society - ECPv6.15.20//NONSGML v1.0//EN
CALSCALE:GREGORIAN
METHOD:PUBLISH
X-ORIGINAL-URL:https://winonahistory.org
X-WR-CALDESC:Events for Winona County Historical Society
REFRESH-INTERVAL;VALUE=DURATION:PT1H
X-Robots-Tag:noindex
X-PUBLISHED-TTL:PT1H
BEGIN:VTIMEZONE
TZID:America/Chicago
BEGIN:DAYLIGHT
TZOFFSETFROM:-0600
TZOFFSETTO:-0500
TZNAME:CDT
DTSTART:20240310T080000
END:DAYLIGHT
BEGIN:STANDARD
TZOFFSETFROM:-0500
TZOFFSETTO:-0600
TZNAME:CST
DTSTART:20241103T070000
END:STANDARD
BEGIN:DAYLIGHT
TZOFFSETFROM:-0600
TZOFFSETTO:-0500
TZNAME:CDT
DTSTART:20250309T080000
END:DAYLIGHT
BEGIN:STANDARD
TZOFFSETFROM:-0500
TZOFFSETTO:-0600
TZNAME:CST
DTSTART:20251102T070000
END:STANDARD
BEGIN:DAYLIGHT
TZOFFSETFROM:-0600
TZOFFSETTO:-0500
TZNAME:CDT
DTSTART:20260308T080000
END:DAYLIGHT
BEGIN:STANDARD
TZOFFSETFROM:-0500
TZOFFSETTO:-0600
TZNAME:CST
DTSTART:20261101T070000
END:STANDARD
END:VTIMEZONE
BEGIN:VEVENT
DTSTART;TZID=America/Chicago:20251221T100000
DTEND;TZID=America/Chicago:20251221T160000
DTSTAMP:20260425T134909
CREATED:20251124T192959Z
LAST-MODIFIED:20251124T192959Z
UID:10001033-1766311200-1766332800@winonahistory.org
SUMMARY:Make a Local Gift Basket
DESCRIPTION:Combine your Museum Shop purchases into a fun local gift. Basket\, wrap\, and ribbon included with $25 purchase or more (starting Dec. 1\, while supplies last).
URL:https://winonahistory.org/event/make-a-local-gift-basket/2025-12-21/
LOCATION:Winona County History Center\, 160 Johnson Street\, Winona\, MN\, 55987
ATTACH;FMTTYPE=image/jpeg:https://winonahistory.org/wp-content/uploads/2025/11/IMG_0803.jpg
END:VEVENT
BEGIN:VEVENT
DTSTART;TZID=America/Chicago:20251220T100000
DTEND;TZID=America/Chicago:20251220T160000
DTSTAMP:20260425T134909
CREATED:20251124T192959Z
LAST-MODIFIED:20251124T192959Z
UID:10001032-1766224800-1766246400@winonahistory.org
SUMMARY:Make a Local Gift Basket
DESCRIPTION:Combine your Museum Shop purchases into a fun local gift. Basket\, wrap\, and ribbon included with $25 purchase or more (starting Dec. 1\, while supplies last).
URL:https://winonahistory.org/event/make-a-local-gift-basket/2025-12-20/
LOCATION:Winona County History Center\, 160 Johnson Street\, Winona\, MN\, 55987
ATTACH;FMTTYPE=image/jpeg:https://winonahistory.org/wp-content/uploads/2025/11/IMG_0803.jpg
END:VEVENT
BEGIN:VEVENT
DTSTART;TZID=America/Chicago:20251219T100000
DTEND;TZID=America/Chicago:20251219T160000
DTSTAMP:20260425T134909
CREATED:20251124T192959Z
LAST-MODIFIED:20251124T192959Z
UID:10001031-1766138400-1766160000@winonahistory.org
SUMMARY:Make a Local Gift Basket
DESCRIPTION:Combine your Museum Shop purchases into a fun local gift. Basket\, wrap\, and ribbon included with $25 purchase or more (starting Dec. 1\, while supplies last).
URL:https://winonahistory.org/event/make-a-local-gift-basket/2025-12-19/
LOCATION:Winona County History Center\, 160 Johnson Street\, Winona\, MN\, 55987
ATTACH;FMTTYPE=image/jpeg:https://winonahistory.org/wp-content/uploads/2025/11/IMG_0803.jpg
END:VEVENT
BEGIN:VEVENT
DTSTART;TZID=America/Chicago:20251218T100000
DTEND;TZID=America/Chicago:20251218T160000
DTSTAMP:20260425T134909
CREATED:20251124T192959Z
LAST-MODIFIED:20251124T192959Z
UID:10001030-1766052000-1766073600@winonahistory.org
SUMMARY:Make a Local Gift Basket
DESCRIPTION:Combine your Museum Shop purchases into a fun local gift. Basket\, wrap\, and ribbon included with $25 purchase or more (starting Dec. 1\, while supplies last).
URL:https://winonahistory.org/event/make-a-local-gift-basket/2025-12-18/
LOCATION:Winona County History Center\, 160 Johnson Street\, Winona\, MN\, 55987
ATTACH;FMTTYPE=image/jpeg:https://winonahistory.org/wp-content/uploads/2025/11/IMG_0803.jpg
END:VEVENT
BEGIN:VEVENT
DTSTART;TZID=America/Chicago:20251217T100000
DTEND;TZID=America/Chicago:20251217T160000
DTSTAMP:20260425T134909
CREATED:20251124T192959Z
LAST-MODIFIED:20251124T192959Z
UID:10001029-1765965600-1765987200@winonahistory.org
SUMMARY:Make a Local Gift Basket
DESCRIPTION:Combine your Museum Shop purchases into a fun local gift. Basket\, wrap\, and ribbon included with $25 purchase or more (starting Dec. 1\, while supplies last).
URL:https://winonahistory.org/event/make-a-local-gift-basket/2025-12-17/
LOCATION:Winona County History Center\, 160 Johnson Street\, Winona\, MN\, 55987
ATTACH;FMTTYPE=image/jpeg:https://winonahistory.org/wp-content/uploads/2025/11/IMG_0803.jpg
END:VEVENT
BEGIN:VEVENT
DTSTART;TZID=America/Chicago:20251216T100000
DTEND;TZID=America/Chicago:20251216T160000
DTSTAMP:20260425T134909
CREATED:20251124T192959Z
LAST-MODIFIED:20251124T192959Z
UID:10001028-1765879200-1765900800@winonahistory.org
SUMMARY:Make a Local Gift Basket
DESCRIPTION:Combine your Museum Shop purchases into a fun local gift. Basket\, wrap\, and ribbon included with $25 purchase or more (starting Dec. 1\, while supplies last).
URL:https://winonahistory.org/event/make-a-local-gift-basket/2025-12-16/
LOCATION:Winona County History Center\, 160 Johnson Street\, Winona\, MN\, 55987
ATTACH;FMTTYPE=image/jpeg:https://winonahistory.org/wp-content/uploads/2025/11/IMG_0803.jpg
END:VEVENT
BEGIN:VEVENT
DTSTART;TZID=America/Chicago:20251215T100000
DTEND;TZID=America/Chicago:20251215T160000
DTSTAMP:20260425T134909
CREATED:20251124T192959Z
LAST-MODIFIED:20251124T192959Z
UID:10001027-1765792800-1765814400@winonahistory.org
SUMMARY:Make a Local Gift Basket
DESCRIPTION:Combine your Museum Shop purchases into a fun local gift. Basket\, wrap\, and ribbon included with $25 purchase or more (starting Dec. 1\, while supplies last).
URL:https://winonahistory.org/event/make-a-local-gift-basket/2025-12-15/
LOCATION:Winona County History Center\, 160 Johnson Street\, Winona\, MN\, 55987
ATTACH;FMTTYPE=image/jpeg:https://winonahistory.org/wp-content/uploads/2025/11/IMG_0803.jpg
END:VEVENT
BEGIN:VEVENT
DTSTART;TZID=America/Chicago:20251214T100000
DTEND;TZID=America/Chicago:20251214T160000
DTSTAMP:20260425T134909
CREATED:20251124T192959Z
LAST-MODIFIED:20251124T192959Z
UID:10001026-1765706400-1765728000@winonahistory.org
SUMMARY:Make a Local Gift Basket
DESCRIPTION:Combine your Museum Shop purchases into a fun local gift. Basket\, wrap\, and ribbon included with $25 purchase or more (starting Dec. 1\, while supplies last).
URL:https://winonahistory.org/event/make-a-local-gift-basket/2025-12-14/
LOCATION:Winona County History Center\, 160 Johnson Street\, Winona\, MN\, 55987
ATTACH;FMTTYPE=image/jpeg:https://winonahistory.org/wp-content/uploads/2025/11/IMG_0803.jpg
END:VEVENT
BEGIN:VEVENT
DTSTART;TZID=America/Chicago:20251213T100000
DTEND;TZID=America/Chicago:20251213T160000
DTSTAMP:20260425T134909
CREATED:20251124T192959Z
LAST-MODIFIED:20251124T192959Z
UID:10001025-1765620000-1765641600@winonahistory.org
SUMMARY:Make a Local Gift Basket
DESCRIPTION:Combine your Museum Shop purchases into a fun local gift. Basket\, wrap\, and ribbon included with $25 purchase or more (starting Dec. 1\, while supplies last).
URL:https://winonahistory.org/event/make-a-local-gift-basket/2025-12-13/
LOCATION:Winona County History Center\, 160 Johnson Street\, Winona\, MN\, 55987
ATTACH;FMTTYPE=image/jpeg:https://winonahistory.org/wp-content/uploads/2025/11/IMG_0803.jpg
END:VEVENT
BEGIN:VEVENT
DTSTART;TZID=America/Chicago:20251212T100000
DTEND;TZID=America/Chicago:20251212T160000
DTSTAMP:20260425T134909
CREATED:20251124T192959Z
LAST-MODIFIED:20251124T192959Z
UID:10001024-1765533600-1765555200@winonahistory.org
SUMMARY:Make a Local Gift Basket
DESCRIPTION:Combine your Museum Shop purchases into a fun local gift. Basket\, wrap\, and ribbon included with $25 purchase or more (starting Dec. 1\, while supplies last).
URL:https://winonahistory.org/event/make-a-local-gift-basket/2025-12-12/
LOCATION:Winona County History Center\, 160 Johnson Street\, Winona\, MN\, 55987
ATTACH;FMTTYPE=image/jpeg:https://winonahistory.org/wp-content/uploads/2025/11/IMG_0803.jpg
END:VEVENT
BEGIN:VEVENT
DTSTART;TZID=America/Chicago:20251211T100000
DTEND;TZID=America/Chicago:20251211T160000
DTSTAMP:20260425T134909
CREATED:20251124T192959Z
LAST-MODIFIED:20251124T192959Z
UID:10001023-1765447200-1765468800@winonahistory.org
SUMMARY:Make a Local Gift Basket
DESCRIPTION:Combine your Museum Shop purchases into a fun local gift. Basket\, wrap\, and ribbon included with $25 purchase or more (starting Dec. 1\, while supplies last).
URL:https://winonahistory.org/event/make-a-local-gift-basket/2025-12-11/
LOCATION:Winona County History Center\, 160 Johnson Street\, Winona\, MN\, 55987
ATTACH;FMTTYPE=image/jpeg:https://winonahistory.org/wp-content/uploads/2025/11/IMG_0803.jpg
END:VEVENT
BEGIN:VEVENT
DTSTART;TZID=America/Chicago:20251210T100000
DTEND;TZID=America/Chicago:20251210T160000
DTSTAMP:20260425T134909
CREATED:20251124T192959Z
LAST-MODIFIED:20251124T192959Z
UID:10001022-1765360800-1765382400@winonahistory.org
SUMMARY:Make a Local Gift Basket
DESCRIPTION:Combine your Museum Shop purchases into a fun local gift. Basket\, wrap\, and ribbon included with $25 purchase or more (starting Dec. 1\, while supplies last).
URL:https://winonahistory.org/event/make-a-local-gift-basket/2025-12-10/
LOCATION:Winona County History Center\, 160 Johnson Street\, Winona\, MN\, 55987
ATTACH;FMTTYPE=image/jpeg:https://winonahistory.org/wp-content/uploads/2025/11/IMG_0803.jpg
END:VEVENT
BEGIN:VEVENT
DTSTART;TZID=America/Chicago:20251209T100000
DTEND;TZID=America/Chicago:20251209T160000
DTSTAMP:20260425T134909
CREATED:20251124T192959Z
LAST-MODIFIED:20251124T192959Z
UID:10001021-1765274400-1765296000@winonahistory.org
SUMMARY:Make a Local Gift Basket
DESCRIPTION:Combine your Museum Shop purchases into a fun local gift. Basket\, wrap\, and ribbon included with $25 purchase or more (starting Dec. 1\, while supplies last).
URL:https://winonahistory.org/event/make-a-local-gift-basket/2025-12-09/
LOCATION:Winona County History Center\, 160 Johnson Street\, Winona\, MN\, 55987
ATTACH;FMTTYPE=image/jpeg:https://winonahistory.org/wp-content/uploads/2025/11/IMG_0803.jpg
END:VEVENT
BEGIN:VEVENT
DTSTART;TZID=America/Chicago:20251208T100000
DTEND;TZID=America/Chicago:20251208T160000
DTSTAMP:20260425T134909
CREATED:20251124T192959Z
LAST-MODIFIED:20251124T192959Z
UID:10001020-1765188000-1765209600@winonahistory.org
SUMMARY:Make a Local Gift Basket
DESCRIPTION:Combine your Museum Shop purchases into a fun local gift. Basket\, wrap\, and ribbon included with $25 purchase or more (starting Dec. 1\, while supplies last).
URL:https://winonahistory.org/event/make-a-local-gift-basket/2025-12-08/
LOCATION:Winona County History Center\, 160 Johnson Street\, Winona\, MN\, 55987
ATTACH;FMTTYPE=image/jpeg:https://winonahistory.org/wp-content/uploads/2025/11/IMG_0803.jpg
END:VEVENT
BEGIN:VEVENT
DTSTART;TZID=America/Chicago:20251207T100000
DTEND;TZID=America/Chicago:20251207T160000
DTSTAMP:20260425T134909
CREATED:20251124T192959Z
LAST-MODIFIED:20251124T192959Z
UID:10001019-1765101600-1765123200@winonahistory.org
SUMMARY:Make a Local Gift Basket
DESCRIPTION:Combine your Museum Shop purchases into a fun local gift. Basket\, wrap\, and ribbon included with $25 purchase or more (starting Dec. 1\, while supplies last).
URL:https://winonahistory.org/event/make-a-local-gift-basket/2025-12-07/
LOCATION:Winona County History Center\, 160 Johnson Street\, Winona\, MN\, 55987
ATTACH;FMTTYPE=image/jpeg:https://winonahistory.org/wp-content/uploads/2025/11/IMG_0803.jpg
END:VEVENT
BEGIN:VEVENT
DTSTART;TZID=America/Chicago:20251206T100000
DTEND;TZID=America/Chicago:20251206T160000
DTSTAMP:20260425T134909
CREATED:20251124T192959Z
LAST-MODIFIED:20251124T192959Z
UID:10001018-1765015200-1765036800@winonahistory.org
SUMMARY:Make a Local Gift Basket
DESCRIPTION:Combine your Museum Shop purchases into a fun local gift. Basket\, wrap\, and ribbon included with $25 purchase or more (starting Dec. 1\, while supplies last).
URL:https://winonahistory.org/event/make-a-local-gift-basket/2025-12-06/
LOCATION:Winona County History Center\, 160 Johnson Street\, Winona\, MN\, 55987
ATTACH;FMTTYPE=image/jpeg:https://winonahistory.org/wp-content/uploads/2025/11/IMG_0803.jpg
END:VEVENT
BEGIN:VEVENT
DTSTART;TZID=America/Chicago:20251205T100000
DTEND;TZID=America/Chicago:20251205T160000
DTSTAMP:20260425T134909
CREATED:20251124T192959Z
LAST-MODIFIED:20251124T192959Z
UID:10001017-1764928800-1764950400@winonahistory.org
SUMMARY:Make a Local Gift Basket
DESCRIPTION:Combine your Museum Shop purchases into a fun local gift. Basket\, wrap\, and ribbon included with $25 purchase or more (starting Dec. 1\, while supplies last).
URL:https://winonahistory.org/event/make-a-local-gift-basket/2025-12-05/
LOCATION:Winona County History Center\, 160 Johnson Street\, Winona\, MN\, 55987
ATTACH;FMTTYPE=image/jpeg:https://winonahistory.org/wp-content/uploads/2025/11/IMG_0803.jpg
END:VEVENT
BEGIN:VEVENT
DTSTART;TZID=America/Chicago:20251204T100000
DTEND;TZID=America/Chicago:20251204T160000
DTSTAMP:20260425T134909
CREATED:20251124T192959Z
LAST-MODIFIED:20251124T192959Z
UID:10001016-1764842400-1764864000@winonahistory.org
SUMMARY:Make a Local Gift Basket
DESCRIPTION:Combine your Museum Shop purchases into a fun local gift. Basket\, wrap\, and ribbon included with $25 purchase or more (starting Dec. 1\, while supplies last).
URL:https://winonahistory.org/event/make-a-local-gift-basket/2025-12-04/
LOCATION:Winona County History Center\, 160 Johnson Street\, Winona\, MN\, 55987
ATTACH;FMTTYPE=image/jpeg:https://winonahistory.org/wp-content/uploads/2025/11/IMG_0803.jpg
END:VEVENT
BEGIN:VEVENT
DTSTART;TZID=America/Chicago:20251203T100000
DTEND;TZID=America/Chicago:20251203T160000
DTSTAMP:20260425T134909
CREATED:20251124T192959Z
LAST-MODIFIED:20251124T192959Z
UID:10001015-1764756000-1764777600@winonahistory.org
SUMMARY:Make a Local Gift Basket
DESCRIPTION:Combine your Museum Shop purchases into a fun local gift. Basket\, wrap\, and ribbon included with $25 purchase or more (starting Dec. 1\, while supplies last).
URL:https://winonahistory.org/event/make-a-local-gift-basket/2025-12-03/
LOCATION:Winona County History Center\, 160 Johnson Street\, Winona\, MN\, 55987
ATTACH;FMTTYPE=image/jpeg:https://winonahistory.org/wp-content/uploads/2025/11/IMG_0803.jpg
END:VEVENT
BEGIN:VEVENT
DTSTART;TZID=America/Chicago:20251202T100000
DTEND;TZID=America/Chicago:20251202T160000
DTSTAMP:20260425T134909
CREATED:20251124T192959Z
LAST-MODIFIED:20251124T192959Z
UID:10001014-1764669600-1764691200@winonahistory.org
SUMMARY:Make a Local Gift Basket
DESCRIPTION:Combine your Museum Shop purchases into a fun local gift. Basket\, wrap\, and ribbon included with $25 purchase or more (starting Dec. 1\, while supplies last).
URL:https://winonahistory.org/event/make-a-local-gift-basket/2025-12-02/
LOCATION:Winona County History Center\, 160 Johnson Street\, Winona\, MN\, 55987
ATTACH;FMTTYPE=image/jpeg:https://winonahistory.org/wp-content/uploads/2025/11/IMG_0803.jpg
END:VEVENT
BEGIN:VEVENT
DTSTART;TZID=America/Chicago:20251201T100000
DTEND;TZID=America/Chicago:20251201T160000
DTSTAMP:20260425T134909
CREATED:20251124T192959Z
LAST-MODIFIED:20251124T192959Z
UID:10001013-1764583200-1764604800@winonahistory.org
SUMMARY:Make a Local Gift Basket
DESCRIPTION:Combine your Museum Shop purchases into a fun local gift. Basket\, wrap\, and ribbon included with $25 purchase or more (starting Dec. 1\, while supplies last).
URL:https://winonahistory.org/event/make-a-local-gift-basket/2025-12-01/
LOCATION:Winona County History Center\, 160 Johnson Street\, Winona\, MN\, 55987
ATTACH;FMTTYPE=image/jpeg:https://winonahistory.org/wp-content/uploads/2025/11/IMG_0803.jpg
END:VEVENT
END:VCALENDAR