BEGIN:VCALENDAR
VERSION:2.0
PRODID:-//Winona County Historical Society - ECPv6.15.20//NONSGML v1.0//EN
CALSCALE:GREGORIAN
METHOD:PUBLISH
X-WR-CALNAME:Winona County Historical Society
X-ORIGINAL-URL:https://winonahistory.org
X-WR-CALDESC:Events for Winona County Historical Society
REFRESH-INTERVAL;VALUE=DURATION:PT1H
X-Robots-Tag:noindex
X-PUBLISHED-TTL:PT1H
BEGIN:VTIMEZONE
TZID:America/Chicago
BEGIN:DAYLIGHT
TZOFFSETFROM:-0600
TZOFFSETTO:-0500
TZNAME:CDT
DTSTART:20240310T080000
END:DAYLIGHT
BEGIN:STANDARD
TZOFFSETFROM:-0500
TZOFFSETTO:-0600
TZNAME:CST
DTSTART:20241103T070000
END:STANDARD
BEGIN:DAYLIGHT
TZOFFSETFROM:-0600
TZOFFSETTO:-0500
TZNAME:CDT
DTSTART:20250309T080000
END:DAYLIGHT
BEGIN:STANDARD
TZOFFSETFROM:-0500
TZOFFSETTO:-0600
TZNAME:CST
DTSTART:20251102T070000
END:STANDARD
BEGIN:DAYLIGHT
TZOFFSETFROM:-0600
TZOFFSETTO:-0500
TZNAME:CDT
DTSTART:20260308T080000
END:DAYLIGHT
BEGIN:STANDARD
TZOFFSETFROM:-0500
TZOFFSETTO:-0600
TZNAME:CST
DTSTART:20261101T070000
END:STANDARD
END:VTIMEZONE
BEGIN:VEVENT
DTSTART;TZID=America/Chicago:20250906T140000
DTEND;TZID=America/Chicago:20250906T150000
DTSTAMP:20260424T014644
CREATED:20250508T142701Z
LAST-MODIFIED:20250508T151740Z
UID:10000576-1757167200-1757170800@winonahistory.org
SUMMARY:Meet the Bunnells: The Children
DESCRIPTION:During “Meet the Bunnells: The Children\,” a knowledgeable speaker will offer you an encounter the young Bunnells against the backdrop of their 19th-century home. Willard and Matilda Bunnell had three sons and five daughters. The children lived out their early years on a frontier homestead along the Mississippi River in Homer\, MN — a challenging time and place for families. Lafayette never had children\, and Willard’s line ended with these children. Therefore\, no one with the name Bunnell is a direct relative of this particular Bunnell family. \nProgram space is limited. Seating preference is given to season pass holders and registered guests. Call 507-454-2723 ext. 0 to sign up!  \nGeneral Admission: $5 Adults\, $3 Students\, Members Free\nAdmission + Meet the Bunnells Season Pass: $15 per person or free for WCHS members. Purchase at the door\, at the WCHS Tickets Desk\, or by phone. Show receipt of your purchase for entry.
URL:https://winonahistory.org/event/meet-the-bunnells-the-children/
LOCATION:Bunnell House\, 36106 Old Homer Road Homer\, MN\, Homer\, Minnesota\, 55987
CATEGORIES:Education Opportunities,Programs
ATTACH;FMTTYPE=image/jpeg:https://winonahistory.org/wp-content/uploads/2025/05/Willard-Bunnell-JR-16x9-1.jpg
END:VEVENT
BEGIN:VEVENT
DTSTART;TZID=America/Chicago:20250906T130000
DTEND;TZID=America/Chicago:20250906T160000
DTSTAMP:20260424T014644
CREATED:20240805T183511Z
LAST-MODIFIED:20250620T170632Z
UID:10000571-1757163600-1757174400@winonahistory.org
SUMMARY:Bunnell House Self-Guided Tour
DESCRIPTION:Self-guided explorations into the world of the Bunnell family are offered monthly June – September at the historic Bunnell House in Homer. Be welcomed with an introduction and then explore the three floors of this unique historic home at your own pace. Admission paid at the door\, free for WCHS members. \nBuilt about 1850\, the home is made of pine with a limestone foundation. The style is often described as Rural or Steamboat Gothic. It was a private residence until acquired by the Winona County Historical Society in 1954. It is on the National Register of Historic Places.
URL:https://winonahistory.org/event/bunnell-house-tour/2025-09-06/
LOCATION:Bunnell House\, 36106 Old Homer Road Homer\, MN\, Homer\, Minnesota\, 55987
CATEGORIES:Tours
ATTACH;FMTTYPE=image/jpeg:https://winonahistory.org/wp-content/uploads/2024/08/BunnelHouse-BW-16x9-1.jpg
END:VEVENT
BEGIN:VEVENT
DTSTART;TZID=America/Chicago:20250905T130000
DTEND;TZID=America/Chicago:20250905T160000
DTSTAMP:20260424T014644
CREATED:20240805T183511Z
LAST-MODIFIED:20250620T170632Z
UID:10000570-1757077200-1757088000@winonahistory.org
SUMMARY:Bunnell House Self-Guided Tour
DESCRIPTION:Self-guided explorations into the world of the Bunnell family are offered monthly June – September at the historic Bunnell House in Homer. Be welcomed with an introduction and then explore the three floors of this unique historic home at your own pace. Admission paid at the door\, free for WCHS members. \nBuilt about 1850\, the home is made of pine with a limestone foundation. The style is often described as Rural or Steamboat Gothic. It was a private residence until acquired by the Winona County Historical Society in 1954. It is on the National Register of Historic Places.
URL:https://winonahistory.org/event/bunnell-house-tour/2025-09-05/
LOCATION:Bunnell House\, 36106 Old Homer Road Homer\, MN\, Homer\, Minnesota\, 55987
CATEGORIES:Tours
ATTACH;FMTTYPE=image/jpeg:https://winonahistory.org/wp-content/uploads/2024/08/BunnelHouse-BW-16x9-1.jpg
END:VEVENT
BEGIN:VEVENT
DTSTART;TZID=America/Chicago:20250816T140000
DTEND;TZID=America/Chicago:20250816T150000
DTSTAMP:20260424T014644
CREATED:20250508T151511Z
LAST-MODIFIED:20250508T154346Z
UID:10000575-1755352800-1755356400@winonahistory.org
SUMMARY:Meet the Bunnells: Matilda
DESCRIPTION:In “Meet the Bunnells: Matilda\,” a knowledgeable speaker will opens up the world of Matilda Bunnell against the backdrop of her historic home. Matilda was the daughter of a family that farmed and was part of the fur trade industry. She was known to speak several languages. She married Willard and ventured west all while growing a family of her own. She is also described as a gentlewoman that kept a fine house but could also easily use a shotgun. \nProgram space is limited. Seating preference is given to season pass holders and registered guests. Call 507-454-2723 ext. 0 to sign up!  \nGeneral Admission: $5 Adults\, $3 Students\, Members Free\nAdmission + Meet the Bunnells Season Pass: $15 per person or free for WCHS members. Purchase at the door\, at the WCHS Tickets Desk\, or by phone. Show receipt of your purchase for entry. \n  \nUp next: \n\nSeptember 6 – Meet the Bunnells: The Children
URL:https://winonahistory.org/event/meet-the-bunnells-matilda/
LOCATION:Bunnell House\, 36106 Old Homer Road Homer\, MN\, Homer\, Minnesota\, 55987
CATEGORIES:Education Opportunities,Programs
ATTACH;FMTTYPE=image/jpeg:https://winonahistory.org/wp-content/uploads/2025/05/Bunnell-House-16x9-1.jpg
END:VEVENT
BEGIN:VEVENT
DTSTART;TZID=America/Chicago:20250816T130000
DTEND;TZID=America/Chicago:20250816T160000
DTSTAMP:20260424T014644
CREATED:20240805T183511Z
LAST-MODIFIED:20250620T170632Z
UID:10000569-1755349200-1755360000@winonahistory.org
SUMMARY:Bunnell House Self-Guided Tour
DESCRIPTION:Self-guided explorations into the world of the Bunnell family are offered monthly June – September at the historic Bunnell House in Homer. Be welcomed with an introduction and then explore the three floors of this unique historic home at your own pace. Admission paid at the door\, free for WCHS members. \nBuilt about 1850\, the home is made of pine with a limestone foundation. The style is often described as Rural or Steamboat Gothic. It was a private residence until acquired by the Winona County Historical Society in 1954. It is on the National Register of Historic Places.
URL:https://winonahistory.org/event/bunnell-house-tour/2025-08-16/
LOCATION:Bunnell House\, 36106 Old Homer Road Homer\, MN\, Homer\, Minnesota\, 55987
CATEGORIES:Tours
ATTACH;FMTTYPE=image/jpeg:https://winonahistory.org/wp-content/uploads/2024/08/BunnelHouse-BW-16x9-1.jpg
END:VEVENT
BEGIN:VEVENT
DTSTART;TZID=America/Chicago:20250815T130000
DTEND;TZID=America/Chicago:20250815T160000
DTSTAMP:20260424T014644
CREATED:20240805T183511Z
LAST-MODIFIED:20250620T170632Z
UID:10000568-1755262800-1755273600@winonahistory.org
SUMMARY:Bunnell House Self-Guided Tour
DESCRIPTION:Self-guided explorations into the world of the Bunnell family are offered monthly June – September at the historic Bunnell House in Homer. Be welcomed with an introduction and then explore the three floors of this unique historic home at your own pace. Admission paid at the door\, free for WCHS members. \nBuilt about 1850\, the home is made of pine with a limestone foundation. The style is often described as Rural or Steamboat Gothic. It was a private residence until acquired by the Winona County Historical Society in 1954. It is on the National Register of Historic Places.
URL:https://winonahistory.org/event/bunnell-house-tour/2025-08-15/
LOCATION:Bunnell House\, 36106 Old Homer Road Homer\, MN\, Homer\, Minnesota\, 55987
CATEGORIES:Tours
ATTACH;FMTTYPE=image/jpeg:https://winonahistory.org/wp-content/uploads/2024/08/BunnelHouse-BW-16x9-1.jpg
END:VEVENT
BEGIN:VEVENT
DTSTART;TZID=America/Chicago:20250726T140000
DTEND;TZID=America/Chicago:20250726T150000
DTSTAMP:20260424T014644
CREATED:20250508T154324Z
LAST-MODIFIED:20250508T154324Z
UID:10000574-1753538400-1753542000@winonahistory.org
SUMMARY:Meet the Bunnells: Lafayette
DESCRIPTION:A knowledgeable speaker introduces you to Lafayette\, brother of Willard Bunnell in the “Meet the Bunnells: Lafayette” program. Lafayette fought in the Mexican war of 1846 to 1848\, the California Indian War of 1851\, and the Civil War during which he became a surgeon in the 36th Wisconsin Infantry regiment. He wrote two books\, one about the area around Winona and one about Yosemite. He lived in the Bunnell house after Willard and Matilda died and gave lectures about his adventures in the parlor. \nProgram space is limited. Seating preference is given to season pass holders and registered guests. Call 507-454-2723 ext. 0 to sign up!  \nGeneral Admission: $5 Adults\, $3 Students\, Members Free\nAdmission + Meet the Bunnells Season Pass: $15 per person or free for WCHS members. Purchase at the door\, at the WCHS Tickets Desk\, or by phone. Show receipt of your purchase for entry. \nUp next: \n\nAugust 16 – Meet the Bunnells: Matilda\nSeptember 6 – Meet the Bunnells: The Children
URL:https://winonahistory.org/event/meet-the-bunnells-lafayette/
LOCATION:Bunnell House\, 36106 Old Homer Road Homer\, MN\, Homer\, Minnesota\, 55987
CATEGORIES:Education Opportunities,Programs
ATTACH;FMTTYPE=image/jpeg:https://winonahistory.org/wp-content/uploads/2025/05/LafayetteBunnell16x9.jpg
END:VEVENT
BEGIN:VEVENT
DTSTART;TZID=America/Chicago:20250726T130000
DTEND;TZID=America/Chicago:20250726T160000
DTSTAMP:20260424T014644
CREATED:20240805T183511Z
LAST-MODIFIED:20250620T170632Z
UID:10000567-1753534800-1753545600@winonahistory.org
SUMMARY:Bunnell House Self-Guided Tour
DESCRIPTION:Self-guided explorations into the world of the Bunnell family are offered monthly June – September at the historic Bunnell House in Homer. Be welcomed with an introduction and then explore the three floors of this unique historic home at your own pace. Admission paid at the door\, free for WCHS members. \nBuilt about 1850\, the home is made of pine with a limestone foundation. The style is often described as Rural or Steamboat Gothic. It was a private residence until acquired by the Winona County Historical Society in 1954. It is on the National Register of Historic Places.
URL:https://winonahistory.org/event/bunnell-house-tour/2025-07-26/
LOCATION:Bunnell House\, 36106 Old Homer Road Homer\, MN\, Homer\, Minnesota\, 55987
CATEGORIES:Tours
ATTACH;FMTTYPE=image/jpeg:https://winonahistory.org/wp-content/uploads/2024/08/BunnelHouse-BW-16x9-1.jpg
END:VEVENT
BEGIN:VEVENT
DTSTART;TZID=America/Chicago:20250725T130000
DTEND;TZID=America/Chicago:20250725T160000
DTSTAMP:20260424T014644
CREATED:20240805T183511Z
LAST-MODIFIED:20250620T170632Z
UID:10000566-1753448400-1753459200@winonahistory.org
SUMMARY:Bunnell House Self-Guided Tour
DESCRIPTION:Self-guided explorations into the world of the Bunnell family are offered monthly June – September at the historic Bunnell House in Homer. Be welcomed with an introduction and then explore the three floors of this unique historic home at your own pace. Admission paid at the door\, free for WCHS members. \nBuilt about 1850\, the home is made of pine with a limestone foundation. The style is often described as Rural or Steamboat Gothic. It was a private residence until acquired by the Winona County Historical Society in 1954. It is on the National Register of Historic Places.
URL:https://winonahistory.org/event/bunnell-house-tour/2025-07-25/
LOCATION:Bunnell House\, 36106 Old Homer Road Homer\, MN\, Homer\, Minnesota\, 55987
CATEGORIES:Tours
ATTACH;FMTTYPE=image/jpeg:https://winonahistory.org/wp-content/uploads/2024/08/BunnelHouse-BW-16x9-1.jpg
END:VEVENT
BEGIN:VEVENT
DTSTART;TZID=America/Chicago:20250628T140000
DTEND;TZID=America/Chicago:20250628T150000
DTSTAMP:20260424T014644
CREATED:20250508T160335Z
LAST-MODIFIED:20250508T160335Z
UID:10000573-1751119200-1751122800@winonahistory.org
SUMMARY:Meet the Bunnells: Willard
DESCRIPTION:Learn about the turbulent life and times of Willard Bunnell through the “Meet the Bunnells: Willard” program. Willard Bunnell came to the area as treaties kept forcing Native tribes westward. The Bunnell House is the last home he built for his family in the new settlement he named Homer after where he was born\, Homer NY. From stolen silver coins to the removal of Dakota people. \nProgram space is limited. Seating preference is given to season pass holders and registered guests. Call 507-454-2723 ext. 0 to sign up!  \nGeneral Admission: $5 Adults\, $3 Students\, Members Free\nAdmission + Meet the Bunnells Season Pass: $15 per person or free for WCHS members. Purchase at the door\, at the WCHS Tickets Desk\, or by phone. Show receipt of your purchase for entry. \nUp next: \n\nJuly 26 – Meet the Bunnells: Lafayette\nAugust 16 – Meet the Bunnells: Matilda\nSeptember 6 – Meet the Bunnells: The Children
URL:https://winonahistory.org/event/meet-the-bunnells-willard/
LOCATION:Bunnell House\, 36106 Old Homer Road Homer\, MN\, Homer\, Minnesota\, 55987
CATEGORIES:Education Opportunities,Programs
ATTACH;FMTTYPE=image/jpeg:https://winonahistory.org/wp-content/uploads/2025/05/Bunnell-house-2-16x9-1.jpg
END:VEVENT
BEGIN:VEVENT
DTSTART;TZID=America/Chicago:20250628T100000
DTEND;TZID=America/Chicago:20250628T160000
DTSTAMP:20260424T014644
CREATED:20240805T183511Z
LAST-MODIFIED:20250620T170632Z
UID:10000590-1751104800-1751126400@winonahistory.org
SUMMARY:Bunnell House Self-Guided Tour
DESCRIPTION:Self-guided explorations into the world of the Bunnell family are offered monthly June – September at the historic Bunnell House in Homer. Be welcomed with an introduction and then explore the three floors of this unique historic home at your own pace. Admission paid at the door\, free for WCHS members. \nBuilt about 1850\, the home is made of pine with a limestone foundation. The style is often described as Rural or Steamboat Gothic. It was a private residence until acquired by the Winona County Historical Society in 1954. It is on the National Register of Historic Places.
URL:https://winonahistory.org/event/bunnell-house-tour/2025-06-28/
LOCATION:Bunnell House\, 36106 Old Homer Road Homer\, MN\, Homer\, Minnesota\, 55987
CATEGORIES:Tours
ATTACH;FMTTYPE=image/jpeg:https://winonahistory.org/wp-content/uploads/2024/08/BunnelHouse-BW-16x9-1.jpg
END:VEVENT
BEGIN:VEVENT
DTSTART;TZID=America/Chicago:20250627T130000
DTEND;TZID=America/Chicago:20250627T160000
DTSTAMP:20260424T014644
CREATED:20240805T183511Z
LAST-MODIFIED:20250620T170632Z
UID:10000572-1751029200-1751040000@winonahistory.org
SUMMARY:Bunnell House Self-Guided Tour
DESCRIPTION:Self-guided explorations into the world of the Bunnell family are offered monthly June – September at the historic Bunnell House in Homer. Be welcomed with an introduction and then explore the three floors of this unique historic home at your own pace. Admission paid at the door\, free for WCHS members. \nBuilt about 1850\, the home is made of pine with a limestone foundation. The style is often described as Rural or Steamboat Gothic. It was a private residence until acquired by the Winona County Historical Society in 1954. It is on the National Register of Historic Places.
URL:https://winonahistory.org/event/bunnell-house-tour/2025-06-27/
LOCATION:Bunnell House\, 36106 Old Homer Road Homer\, MN\, Homer\, Minnesota\, 55987
CATEGORIES:Tours
ATTACH;FMTTYPE=image/jpeg:https://winonahistory.org/wp-content/uploads/2024/08/BunnelHouse-BW-16x9-1.jpg
END:VEVENT
END:VCALENDAR